BEGIN:VCALENDAR
VERSION:2.0
PRODID:-//ChamberMaster//Event Calendar 2.0//EN
METHOD:PUBLISH
X-PUBLISHED-TTL:P3D
REFRESH-INTERVAL:P3D
CALSCALE:GREGORIAN
BEGIN:VEVENT
DTSTART:20260425T160000Z
DTEND:20260425T200000Z
X-MICROSOFT-CDO-ALLDAYEVENT:FALSE
SUMMARY:Celebrate the Grand Opening of Suburban Laser and Skin!
DESCRIPTION:What to Expect:\n\nJoin us for an afternoon of celebration as we officially open our doors. Guests will enjoy like treatment demos\, free raffles\, gift bags\, food\, drink and exclusive grad opening specials. It's the perfect opportunity to meet our team\, tour the space\, and learn more about our team and our treatments.\n\n\n\nGet to know Us!\n\nLearn more about our services including injectables\, advanced laser treatments\, clinical facials\, skin rejuvenation\, weight loss treatments\, skin tightening\, and IV therapy.\n\n\n\nOur team will be available to answer questions and help you explore the treatments best suited to your goals.
X-ALT-DESC;FMTTYPE=text/html:<strong>What to Expect:</strong><br />\nJoin us for an afternoon of celebration as we officially open our doors. Guests will enjoy like treatment demos\, free raffles\, gift bags\, food\, drink and exclusive grad opening specials. It&#39\;s the perfect opportunity to meet our team\, tour the space\, and learn more about our team and our treatments.<br />\n<br />\n<strong>Get to know Us!</strong><br />\nLearn more about our services including injectables\, advanced laser treatments\, clinical facials\, skin rejuvenation\, weight loss treatments\, skin tightening\, and IV therapy.<br />\n<br />\nOur team will be available to answer questions and help you explore the treatments best suited to your goals.<br />\n&nbsp\;
LOCATION:800 E Woodfield Rd\, Suite 102\, Schaumburg\, IL\, 60173
UID:e.9129.10451
SEQUENCE:3
DTSTAMP:20260420T200303Z
URL:https://members.schaumburgbusiness.com/events/details/you-re-invited-grand-opening-10451
END:VEVENT

END:VCALENDAR
