BEGIN:VCALENDAR
VERSION:2.0
PRODID:-//ChamberMaster//Event Calendar 2.0//EN
METHOD:PUBLISH
X-PUBLISHED-TTL:P3D
REFRESH-INTERVAL:P3D
CALSCALE:GREGORIAN
BEGIN:VEVENT
DTSTART:20260519T170000Z
DTEND:20260519T183000Z
X-MICROSOFT-CDO-ALLDAYEVENT:FALSE
SUMMARY:Village Networking Lunch Connect
DESCRIPTION:A midday lunch where you can connect and get to know other business folks in a family room atmosphere. Lunch will be provided.\n\n\n\nGet ready to make some great new connections\, learn about people's stories\, and start building relationships!
X-ALT-DESC;FMTTYPE=text/html:<div>\n<div>A midday lunch where you can connect and get to know other business folks in a family room atmosphere. Lunch will be provided.</div>\n</div>\n\n<div>\n<p>Get ready to make some great new connections\, learn about people&#39\;s stories\, and start building relationships!&nbsp\;</p>\n\n<p>&nbsp\;</p>\n</div>\n
LOCATION:Bell Market 2000 Center Drive #STE EAST B201 Hoffman Estates\, IL 60192
UID:e.9129.10453
SEQUENCE:3
DTSTAMP:20260421T223948Z
URL:https://members.schaumburgbusiness.com/events/details/village-networking-lunch-connect-05-19-2026-10453
END:VEVENT

END:VCALENDAR
