BEGIN:VCALENDAR
VERSION:2.0
PRODID:-//ChamberMaster//Event Calendar 2.0//EN
METHOD:PUBLISH
X-PUBLISHED-TTL:P3D
REFRESH-INTERVAL:P3D
CALSCALE:GREGORIAN
BEGIN:VEVENT
DTSTART:20260429T150000Z
DTEND:20260429T170000Z
X-MICROSOFT-CDO-ALLDAYEVENT:FALSE
SUMMARY:Understanding Personality & Communication Styles
DESCRIPTION:The connection between you and others stems on a solid understanding of various personalities and how to connect with them.\n\n\n\nIt's great to be aware of your personality and how you communicate. It's even better to understand others' personality styles and how THEY communicate.\n\n\n\nThis program quickly and simply breaks down the various styles using the DISC method. We will discuss the strengths and challenges of each style and ways to better connect with those of different styles.
X-ALT-DESC;FMTTYPE=text/html:<span style="font-size:9.0pt">The connection between you and others stems on a solid understanding of various personalities and how to connect with them.</span><br />\n<br />\n<span style="font-size:9pt">It&rsquo\;s great to be aware of your personality and how you communicate. It&rsquo\;s even better to understand others&rsquo\; personality styles and how THEY communicate.</span><br />\n<br />\n<span style="font-size:9pt">This program quickly and simply breaks down the various styles using the DISC method. We will discuss the strengths and challenges of each style and ways to better connect with those of different styles.</span>
LOCATION:Wheaton Public Library 225 N. Cross Street 2nd Floor - Room 2B Wheaton\, IL 60187
UID:e.9129.10452
SEQUENCE:3
DTSTAMP:20260421T223856Z
URL:https://members.schaumburgbusiness.com/events/details/understanding-personality-communication-styles-10452
END:VEVENT

END:VCALENDAR
