BEGIN:VCALENDAR
VERSION:2.0
PRODID:-//ChamberMaster//Event Calendar 2.0//EN
METHOD:PUBLISH
X-PUBLISHED-TTL:P3D
REFRESH-INTERVAL:P3D
CALSCALE:GREGORIAN
BEGIN:VEVENT
DTSTART:20110628T123000Z
DTEND:20110628T140000Z
X-MICROSOFT-CDO-ALLDAYEVENT:FALSE
SUMMARY:Technology Networking Seminar
DESCRIPTION:SBA Members: You are invited to Office Depot in Schaumburg for a Technology Networking Seminar! Business partners of Office Depot will be on hand to show you real ways to save time at work. This morning event will feature two short seminars\; one on technology and all the latest product offerings and one on 'copy and print.' There are many ways you can take advantage of marketing your business and these seminars will tell you how!Join us for a fun morning of networking and learning. Continental breakfast and world class coffee will be served. Don't miss out - Many\, many prizes will be given away!Please mark your calendars and join us on Tuesday June 28\, 2011 at the Office Depot store on Schaumburg.Please register for free either online or call our office at 847.413.1010
X-ALT-DESC;FMTTYPE=text/html:<DIV style='FONT-FAMILY: Arial'><P style='TEXT-ALIGN: center\; LINE-HEIGHT: normal\; MARGIN: 0in 0in 0pt' class=MsoNormal align=center><SPAN style='FONT-FAMILY: 'Times New Roman'\,'serif'\; FONT-SIZE: 12pt\; mso-fareast-font-family: 'Times New Roman''><FONT color=#0000a0 face=Arial>SBA Members:&nbsp\;You are invited to Office Depot in Schaumburg for a Technology Networking Seminar!</FONT></SPAN></P><P style='TEXT-ALIGN: center\; LINE-HEIGHT: normal\; MARGIN: 0in 0in 0pt' class=MsoNormal align=center><SPAN style='FONT-FAMILY: 'Times New Roman'\,'serif'\; FONT-SIZE: 12pt\; mso-fareast-font-family: 'Times New Roman''></SPAN>&nbsp\;</P><P style='TEXT-ALIGN: center\; LINE-HEIGHT: normal\; MARGIN: 0in 0in 0pt' class=MsoNormal align=center><SPAN style='FONT-FAMILY: 'Times New Roman'\,'serif'\; FONT-SIZE: 12pt\; mso-fareast-font-family: 'Times New Roman''></SPAN><SPAN style='FONT-FAMILY: 'Times New Roman'\,'serif'\; FONT-SIZE: 12pt\; mso-fareast-font-family: 'Times New Roman''><xml:namespace prefix = o ns = 'urn:schemas-microsoft-com:office:office' /><o:p><SPAN style='FONT-FAMILY: 'Arial'\,'sans-serif''>Business partners of Office Depot will be on hand to show you real ways to save time at work.</SPAN><FONT face=Arial> <SPAN style='FONT-FAMILY: 'Arial'\,'sans-serif''></SPAN></FONT></P><P align=center><SPAN style='FONT-FAMILY: 'Arial'\,'sans-serif''>This morning event will feature&nbsp\;two short seminars\; one on technology and all the latest</SPAN><FONT face=Arial> <SPAN style='FONT-FAMILY: 'Arial'\,'sans-serif''>product offerings and&nbsp\;one&nbsp\;on 'copy and print.' There are many ways you can take advantage of marketing</SPAN> <SPAN style='FONT-FAMILY: 'Arial'\,'sans-serif''>your business and these seminars will tell you how!</SPAN></FONT></P><P align=center><SPAN style='FONT-FAMILY: 'Arial'\,'sans-serif''>Join us&nbsp\;for&nbsp\;a fun morning of networking and&nbsp\;learning</SPAN><SPAN style='FONT-FAMILY: 'Arial'\,'sans-serif''>.&nbsp\;Continental breakfast and&nbsp\;world class coffee will be served.&nbsp\;</SPAN></P><P align=center><SPAN style='FONT-FAMILY: 'Arial'\,'sans-serif''>Don't miss out - Many\, many prizes will be&nbsp\;given away!</SPAN></P><P align=center><SPAN><FONT face=Arial>Please mark your calendars and join us on Tuesday June 28\, 2011 at the Office Depot store on Schaumburg.</FONT></SPAN></P><P align=center><SPAN><EM><FONT face=Arial>Please register for free either online or call our office at 847.413.1010</FONT></EM></SPAN></o:p></SPAN></P></DIV>
LOCATION:Office Depot
UID:e.9129.277
SEQUENCE:3
DTSTAMP:20260423T225114Z
URL:https://members.schaumburgbusiness.com/events/details/technology-networking-seminar-06-28-2011-277
END:VEVENT

END:VCALENDAR
