BEGIN:VCALENDAR
VERSION:2.0
PRODID:-//ChamberMaster//Event Calendar 2.0//EN
METHOD:PUBLISH
X-PUBLISHED-TTL:P3D
REFRESH-INTERVAL:P3D
CALSCALE:GREGORIAN
BEGIN:VEVENT
DTSTART:20140521T220000Z
DTEND:20140522T000000Z
X-MICROSOFT-CDO-ALLDAYEVENT:FALSE
SUMMARY:SYP Young Professionals
DESCRIPTION:Join the Schaumburg Young Professionals at a progressive evening of food and drink through Tokio Pub.  Tokio Pub offers fresh Japanese cooking\, served in a richly-hued dining room with lively music\, friendly service & an edgy atmosphere\n\n\n\nNetwork with other young professionals in large and small companies to grow your personal and professional contacts.  Have you ever done speed dating?  Well\, this is speed networking.  You'll meet everyone in attendance! \n\n\n\nThe last quarterly SYP event sold out\, be sure to register early for this one.  And remember\, bring plenty of business cards.
X-ALT-DESC;FMTTYPE=text/html:<p>Join the Schaumburg Young Professionals&nbsp\;at a progressive evening of food and drink through&nbsp\;Tokio&nbsp\;Pub. &nbsp\;<span style="background-color:#ffffff\;">Tokio</span>&nbsp\;Pub offers&nbsp\;<span style="font-family:arial\,sans-serif\;"><span style="color:#545454\;"><span style="font-size:small\;">fresh Japanese cooking\, served in a richly-hued dining room with lively music\, friendly service &amp\; an edgy atmosphere</span></span></span><br />\n<br />\nNetwork with other young professionals in large and small companies to grow your personal and professional contacts. &nbsp\;Have you ever done speed dating? &nbsp\;Well\, this is speed networking. &nbsp\;You&#39\;ll meet everyone in attendance!&nbsp\;<br />\n<br />\nThe last quarterly&nbsp\;SYP&nbsp\;event sold out\, be sure to register early for this one. &nbsp\;And remember\, bring plenty of business cards. &nbsp\;</p>\n
LOCATION:Shaw's Crabhouse & Tokio Pub 1900 E. Higgins Rd\, Schaumburg\, IL 60173
UID:e.9129.1638
SEQUENCE:3
DTSTAMP:20260419T191617Z
URL:https://members.schaumburgbusiness.com/events/details/syp-young-professionals-05-21-2014-1638
END:VEVENT

END:VCALENDAR
