BEGIN:VCALENDAR
VERSION:2.0
PRODID:-//ChamberMaster//Event Calendar 2.0//EN
METHOD:PUBLISH
X-PUBLISHED-TTL:P3D
REFRESH-INTERVAL:P3D
CALSCALE:GREGORIAN
BEGIN:VEVENT
DTSTART:20140515T203000Z
DTEND:20140516T003000Z
X-MICROSOFT-CDO-ALLDAYEVENT:FALSE
SUMMARY:SBA Sports Challenge & Trivia Competition
DESCRIPTION:Come out for this action packed event and spend your day with colleagues and associates.  Over 300 participate in the Sports Challenge & Trivia Competition.  The number of the teams are limited - so don't wait to sign-up.\n\nWarm-Up: 2:45pm\n\n\n\nSports Challenge: 3:30 - 7:30pm\n\n   (Dodgeball\, pickleball\, softball & volleyball)\n\n\n\nTrivia Competition: 5:30 - 7:30pm\n\n   (Bar trivia)\n\n\n\nFinal Championship Challenges 7:30pm\n\n   (final championship challenge is kept secret until event)\n\n\n\nAward Presentations to follow\n\n\n\n\n\nRegistration:\n\n$35/player\n\nMay 8\, 2014 is the entry deadline!\n\nSports Teams: 8 - 12 players (No Ringers!) with a minimum of 3 women\n\nTrivia Teams: 4 players with no gender requirement \n\nCall (847)413-1010 to register your team or to be placed on a team.
X-ALT-DESC;FMTTYPE=text/html:<p><font face="Arial">Come out for this action packed event and spend your day with colleagues and associates.&nbsp\; </font><font face="Arial">Over 300 participate in the Sports Challenge &amp\;&nbsp\;Trivia Competition.&nbsp\; </font><font face="Arial">The number of the teams are limited - so don&#39\;t wait to sign-up.</font></p>\n\n<p><font face="Arial"><strong>Warm-Up: 2:45pm<br />\n<br />\nSports</strong></font><strong><font face="Arial"> Challenge: 3:30 - 7:30pm</font></strong><br />\n&nbsp\;&nbsp\; (Dodgeball\, pickleball\, softball &amp\;&nbsp\;volleyball)<br />\n<br />\n<font face="Arial"><strong>Trivia Competition: 5:30 - 7:30pm</strong><br />\n&nbsp\;&nbsp\; (Bar trivia)</font><br />\n<br />\n<strong><font face="Arial">Final&nbsp\;Championship Challenges 7:30pm</font></strong><br />\n<font face="Arial">&nbsp\;&nbsp\; (final championship challenge is kept secret until event)</font><br />\n<br />\n<font face="Arial"><strong>Award Presentations to follow</strong></font><br />\n<br />\n<br />\n<font face="Arial">Registration:</font><br />\n<font face="Arial">$35/player</font><br />\n<font face="Arial">May 8\, 2014&nbsp\;is the entry deadline!<br />\nS</font><font face="Arial">ports Teams: 8 - 12 players (No Ringers!) with a minimum of 3 women</font><br />\n<font face="Arial">Trivia&nbsp\;Teams: 4 players with no gender requirement </font><br />\n<font face="Arial">Call (847)413-1010 to register your team or to be placed on a team.</font></p>\n\n<p>&nbsp\;</p>\n\n<p align="center">&nbsp\;</p>\n
LOCATION:Schaumburg Park District - SPORTS CENTER 1141 Irving Park Road Schaumburg\, IL 60193
UID:e.9129.1604
SEQUENCE:3
DTSTAMP:20260419T205105Z
URL:https://members.schaumburgbusiness.com/events/details/sba-sports-challenge-trivia-competition-05-15-2014-1604
END:VEVENT

END:VCALENDAR
