BEGIN:VCALENDAR
VERSION:2.0
PRODID:-//ChamberMaster//Event Calendar 2.0//EN
METHOD:PUBLISH
X-PUBLISHED-TTL:P3D
REFRESH-INTERVAL:P3D
CALSCALE:GREGORIAN
BEGIN:VEVENT
DTSTART:20100520T200000Z
DTEND:20100521T010000Z
X-MICROSOFT-CDO-ALLDAYEVENT:FALSE
SUMMARY:SBA Sports Challenge & Couch Potato Competition RESULTS
DESCRIPTION:On behalf of the Schaumburg Business Association\, we want to thank everyone who participated and contributed to a very successful 2010 SBA Sports Challenge and Couch Potato Competition.  Over 325 attended this wonderful event.  Thank you for your enthusiasm\, for your creativity in team names and shirts\, and for your good sportsmanship. A special thanks goes to Jenkins Custom Photography for taking all the wonderful pictures of the day’s activities.  The photos should be up on the website in a few weeks in our photo gallery. We have listed below the final award winner’s for the 2010 SBA Challenge & Couch Potato Competition. Congratulations! Whatever the final scores and victors\, thanks for coming\, doing your best and hopefully having fun\, as having fun is all that really matters.  Sport Challenge CHAMPIONS:  Cardinal Fitness in Schaumburg  \n         2nd Place: Team Porte Brown \n         3rd Place: SBA Members Free Agent Team “Corporate Rejects”\n         4th Place: Schaumburg Park District “The RECing Crew” Couch Potato Competition CHAMPIONS:  SBA Networking Group: Hyroglyfyc 'Egyptian Cotton”\n         2nd Place: Friendship Village\n         3rd Place: HIP Salon “Hair Nerds”\n         4th Place: SBA Member Free Agents “Smarter Than an SBA’er” Best Team Uniform: Palatine Bank & Trust “Making Dough” Best Team Name: Palatine Bank & Trust “The Loan Rangers” A special thanks to our generous sponsors:  Alexian Brothers\; AT&T\; Daily Herald\; Links Technology Solutions\; Metzer\, Purtill & Stelle\; Pepsi Beverages Company\; Schaumburg Park District\, Woodfield Shopping Center....As well as Jenkins Custom Photography\; Divine Signs\, Hyatt Regency Woodfield\; Sullivan Roofing\; Culvers\; Athletico\; Apple Spice Junction\; WomanCare PC\; Moretti's\; Muscle Milk\; AMP\; Ups for Downs...
X-ALT-DESC;FMTTYPE=text/html:<DIV style='FONT-FAMILY: Arial'><TABLE class=MsoNormalTable style='WIDTH: 800px\; mso-cellspacing: 0in\; mso-padding-alt: 0in 0in 0in 0in' borderColor=#000000 cellSpacing=0 cellPadding=0 width=800 background='' border=0><TBODY><TR style='HEIGHT: 9pt\; mso-yfti-irow: 0\; mso-yfti-firstrow: yes'><TD style='BORDER-RIGHT: #ece9d8\; PADDING-RIGHT: 0in\; BORDER-TOP: #ece9d8\; PADDING-LEFT: 0in\; BACKGROUND: #dbddd7\; PADDING-BOTTOM: 0in\; BORDER-LEFT: #ece9d8\; PADDING-TOP: 0in\; BORDER-BOTTOM: #ece9d8\; HEIGHT: 9pt' vAlign=top></TD></TR><TR style='mso-yfti-irow: 1'><TD style='BORDER-RIGHT: #ece9d8\; PADDING-RIGHT: 11.25pt\; BORDER-TOP: #ece9d8\; PADDING-LEFT: 11.25pt\; PADDING-BOTTOM: 11.25pt\; BORDER-LEFT: #ece9d8\; PADDING-TOP: 0in\; BORDER-BOTTOM: #ece9d8\; BACKGROUND-COLOR: transparent' vAlign=top><SPAN style='FONT-SIZE: 28.5pt\; COLOR: #003366\; FONT-FAMILY: Arial'><H1 style='MARGIN: 0cm 0cm 0pt\; TEXT-ALIGN: center' align=center></SPAN>&nbsp\;</H1><H1 style='MARGIN: 0in 0in 0pt\; TEXT-ALIGN: center' align=center><TABLE class=MsoNormalTable style='WIDTH: 718px\; HEIGHT: 848px\; mso-cellspacing: 7.5pt\; mso-padding-alt: 0in 0in 0in 0in' cellSpacing=10 cellPadding=0 width=718 border=0><TBODY><TR style='mso-yfti-irow: 0\; mso-yfti-firstrow: yes'><TD style='BORDER-RIGHT: #ece9d8\; PADDING-RIGHT: 4.5pt\; BORDER-TOP: #ece9d8\; PADDING-LEFT: 4.5pt\; PADDING-BOTTOM: 4.5pt\; BORDER-LEFT: #ece9d8\; PADDING-TOP: 4.5pt\; BORDER-BOTTOM: #ece9d8\; BACKGROUND-COLOR: transparent' vAlign=top><P class=MsoNormal dir=ltr style='MARGIN: 0in 0in 0pt' align=left><STRONG><SPAN style='COLOR: #e0810b'></SPAN></STRONG><SPAN style='COLOR: #e0810b'><xml:namespace prefix = o ns = 'urn:schemas-microsoft-com:office:office' /><o:p></o:p></SPAN><FONT face=Verdana>On behalf of the Schaumburg Business Association\, we want to thank everyone who participated and contributed to a very successful 2010 SBA Sports Challenge and Couch Potato Competition.&nbsp\; Over 325 attended this wonderful event.&nbsp\; Thank you for your enthusiasm\, for your creativity in team names and shirts\, and for your good sportsmanship.</FONT></P><P class=MsoNormal dir=ltr style='MARGIN: 0in 0in 0pt' align=left><FONT face=Verdana></FONT>&nbsp\;</P><P class=MsoNormal dir=ltr style='MARGIN: 0in 0in 0pt' align=left><FONT face=Verdana>A special thanks goes to Jenkins Custom Photography for taking all the wonderful pictures of the day’s activities.&nbsp\; The photos should be up on the website in a few weeks in our photo gallery.</FONT></P><P class=MsoNormal dir=ltr style='MARGIN: 0in 0in 0pt' align=left><FONT face=Verdana></FONT>&nbsp\;</P><P class=MsoNormal dir=ltr style='MARGIN: 0in 0in 0pt' align=left><FONT face=Verdana>We have listed below the final award winner’s for the 2010 SBA Challenge &amp\; Couch Potato Competition. Congratulations! Whatever the final scores and victors\, thanks for coming\, doing your best and hopefully having fun\, as having fun is all that really matters.&nbsp\;</FONT></P><P class=MsoNormal dir=ltr style='MARGIN: 0in 0in 0pt' align=left><FONT face=Verdana></FONT>&nbsp\;</P><P class=MsoNormal dir=ltr style='MARGIN: 0in 0in 0pt' align=left><FONT face=Verdana><FONT color=#ff8040><STRONG><FONT size=4>Sport Challenge CHAMPIONS:&nbsp\; Cardinal Fitness in Schaumburg</FONT>&nbsp\; <BR>&nbsp\;&nbsp\;&nbsp\;&nbsp\;&nbsp\;&nbsp\;&nbsp\;&nbsp\; 2nd Place: Team Porte Brown <BR>&nbsp\;&nbsp\;&nbsp\;&nbsp\;&nbsp\;&nbsp\;&nbsp\;&nbsp\; 3rd Place: SBA Members Free Agent Team “Corporate Rejects”<BR>&nbsp\;&nbsp\;&nbsp\;&nbsp\;&nbsp\;&nbsp\;&nbsp\;&nbsp\; 4th Place: Schaumburg Park District “The RECing Crew”</STRONG></FONT></FONT></P><P class=MsoNormal dir=ltr style='MARGIN: 0in 0in 0pt' align=left><FONT face=Verdana color=#ff8040><STRONG></STRONG></FONT>&nbsp\;</P><P class=MsoNormal dir=ltr style='MARGIN: 0in 0in 0pt' align=left><FONT face=Verdana><FONT color=#ff8040><STRONG><FONT size=4>Couch Potato Competition CHAMPIONS:&nbsp\; SBA Networking Group: Hyroglyfyc 'Egyptian Cotton”<BR></FONT>&nbsp\;&nbsp\;&nbsp\;&nbsp\;&nbsp\;&nbsp\;&nbsp\;&nbsp\; 2nd Place: Friendship Village<BR>&nbsp\;&nbsp\;&nbsp\;&nbsp\;&nbsp\;&nbsp\;&nbsp\;&nbsp\; 3rd Place: HIP Salon “Hair Nerds”<BR>&nbsp\;&nbsp\;&nbsp\;&nbsp\;&nbsp\;&nbsp\;&nbsp\;&nbsp\; 4th Place: SBA Member Free Agents “Smarter Than an SBA’er”</STRONG></FONT></FONT></P><P class=MsoNormal dir=ltr style='MARGIN: 0in 0in 0pt' align=left><FONT face=Verdana color=#ff8040><STRONG></STRONG></FONT>&nbsp\;</P><P class=MsoNormal dir=ltr style='MARGIN: 0in 0in 0pt' align=left><FONT face=Verdana><FONT color=#ff8040><STRONG><FONT size=4>Best Team Uniform: Palatine Bank &amp\; Trust “Making Dough”</FONT></STRONG></FONT></FONT></P><P class=MsoNormal dir=ltr style='MARGIN: 0in 0in 0pt' align=left><FONT face=Verdana color=#ff8040 size=4><STRONG></STRONG></FONT>&nbsp\;</P><P class=MsoNormal dir=ltr style='MARGIN: 0in 0in 0pt' align=left><FONT face=Verdana color=#ff8040 size=4><STRONG>Best Team Name: Palatine Bank &amp\; Trust “The Loan Rangers”</STRONG></FONT></P><P class=MsoNormal dir=ltr style='MARGIN: 0in 0in 0pt' align=left><FONT face=Verdana></FONT>&nbsp\;</P><P class=MsoNormal dir=ltr style='MARGIN: 0in 0in 0pt' align=left><FONT face=Verdana>A special thanks to our generous sponsors:&nbsp\; Alexian Brothers\; AT&amp\;T\; Daily Herald\; Links Technology Solutions\; Metzer\, Purtill &amp\; Stelle\; Pepsi Beverages Company\; Schaumburg Park District\, Woodfield Shopping Center....As well as Jenkins Custom Photography\; Divine Signs\, Hyatt Regency Woodfield\; Sullivan Roofing\; Culvers\; Athletico\; Apple Spice Junction\; WomanCare PC\; Moretti's\; Muscle Milk\; AMP\; Ups for Downs...</FONT></P><P class=MsoNormal style='MARGIN: 0in 0in 0pt' align=left><FONT face='Times New Roman'>&nbsp\;</FONT></P></TD><TD style='BORDER-RIGHT: #ece9d8\; PADDING-RIGHT: 4.5pt\; BORDER-TOP: #ece9d8\; PADDING-LEFT: 4.5pt\; PADDING-BOTTOM: 4.5pt\; BORDER-LEFT: #ece9d8\; PADDING-TOP: 4.5pt\; BORDER-BOTTOM: #ece9d8\; BACKGROUND-COLOR: transparent' vAlign=top><P class=MsoNormal style='MARGIN: 0in 0in 0pt' align=left><B><SPAN style='COLOR: #e0810b'><STRONG></STRONG></SPAN></B><SPAN style='COLOR: #e0810b'><o:p></o:p></SPAN><FONT face='Times New Roman'>&nbsp\;</FONT></P></TD></TR><TR style='mso-yfti-irow: 1'><TD style='BORDER-RIGHT: #ece9d8\; PADDING-RIGHT: 4.5pt\; BORDER-TOP: #ece9d8\; PADDING-LEFT: 4.5pt\; PADDING-BOTTOM: 4.5pt\; BORDER-LEFT: #ece9d8\; PADDING-TOP: 4.5pt\; BORDER-BOTTOM: #ece9d8\; BACKGROUND-COLOR: transparent' vAlign=top><P class=MsoNormal style='MARGIN: 0in 0in 0pt'><STRONG><SPAN style='COLOR: #e0810b'></SPAN></STRONG><SPAN style='COLOR: #e0810b'><o:p><STRONG></STRONG></o:p></SPAN><FONT face='Times New Roman'>&nbsp\;</FONT></P></TD><TD style='BORDER-RIGHT: #ece9d8\; PADDING-RIGHT: 4.5pt\; BORDER-TOP: #ece9d8\; PADDING-LEFT: 4.5pt\; PADDING-BOTTOM: 4.5pt\; BORDER-LEFT: #ece9d8\; PADDING-TOP: 4.5pt\; BORDER-BOTTOM: #ece9d8\; BACKGROUND-COLOR: transparent' vAlign=top><P class=MsoNormal style='MARGIN: 0in 0in 0pt'><B><SPAN style='COLOR: #e0810b'><STRONG></STRONG></SPAN></B><SPAN style='COLOR: #e0810b'><o:p><STRONG></STRONG></o:p></SPAN><FONT face='Times New Roman'>&nbsp\;</FONT></P></TD></TR><TR style='mso-yfti-irow: 2\; mso-yfti-lastrow: yes'><TD style='BORDER-RIGHT: #ece9d8\; PADDING-RIGHT: 4.5pt\; BORDER-TOP: #ece9d8\; PADDING-LEFT: 4.5pt\; PADDING-BOTTOM: 4.5pt\; BORDER-LEFT: #ece9d8\; PADDING-TOP: 4.5pt\; BORDER-BOTTOM: #ece9d8\; BACKGROUND-COLOR: transparent' vAlign=top><P class=MsoNormal style='MARGIN: 0in 0in 0pt'><STRONG><SPAN style='COLOR: #e0810b'><FONT face='Times New Roman'></FONT></SPAN></STRONG></P></TD><TD style='BORDER-RIGHT: #ece9d8\; PADDING-RIGHT: 4.5pt\; BORDER-TOP: #ece9d8\; PADDING-LEFT: 4.5pt\; PADDING-BOTTOM: 4.5pt\; BORDER-LEFT: #ece9d8\; PADDING-TOP: 4.5pt\; BORDER-BOTTOM: #ece9d8\; BACKGROUND-COLOR: transparent' vAlign=top><P class=MsoNormal style='MARGIN: 0in 0in 0pt'><STRONG><SPAN style='COLOR: #e0810b'><FONT face='Times New Roman'></FONT></SPAN></STRONG></P></TD></TR></TBODY></TABLE></H1><P style='MARGIN-BOTTOM: 12pt'><FONT face='Times New Roman'><STRONG>&nbsp\;</STRONG><o:p></o:p></FONT></P><DIV class=MsoNormal style='MARGIN: 0in 0in 0pt\; TEXT-ALIGN: center' align=center><FONT face='Times New Roman'></FONT>&nbsp\;</DIV></TD></TR><TR style='mso-yfti-irow: 2\; mso-yfti-lastrow: yes'><TD style='BORDER-RIGHT: #ece9d8\; PADDING-RIGHT: 11.25pt\; BORDER-TOP: #ece9d8\; PADDING-LEFT: 11.25pt\; PADDING-BOTTOM: 12pt\; BORDER-LEFT: #ece9d8\; PADDING-TOP: 12.75pt\; BORDER-BOTTOM: #ece9d8\; BACKGROUND-COLOR: transparent' vAlign=top><P style='MARGIN-BOTTOM: 12pt'><SPAN style='FONT-SIZE: 8.5pt\; COLOR: #003366'><FONT face='Times New Roman'><o:p></o:p></FONT></SPAN>&nbsp\;</P><P><SPAN style='FONT-SIZE: 8.5pt\; COLOR: #003366'><A href='http://www.linksmail.net/sendstudionx/unsubscribe.phpM=11880&amp\;N=466&amp\;L=31&amp\;C=0abdf90e73d4bafefcacd5ebf7925c11'><SPAN style='COLOR: #708050'><FONT face='Times New Roman'></FONT></SPAN></A><U><FONT face='Times New Roman' color=#708050></FONT></U><o:p></o:p></SPAN>&nbsp\;</P></TD></TR></TBODY></TABLE></DIV><DIV style='FONT-FAMILY: Arial'>&nbsp\;</DIV><DIV style='FONT-FAMILY: Arial'>&nbsp\;</DIV><DIV style='FONT-FAMILY: Arial'>&nbsp\;</DIV><DIV style='FONT-FAMILY: Arial'>&nbsp\;</DIV><DIV style='FONT-FAMILY: Arial'>&nbsp\;</DIV><DIV style='FONT-FAMILY: Arial'>&nbsp\;</DIV><DIV style='FONT-FAMILY: Arial'>&nbsp\;</DIV><DIV style='FONT-FAMILY: Arial'>&nbsp\;</DIV><DIV style='FONT-FAMILY: Arial'>&nbsp\;</DIV>
LOCATION:Schaumburg Park District - SPORTS CENTER
UID:e.9129.191
SEQUENCE:3
DTSTAMP:20260424T154804Z
URL:https://members.schaumburgbusiness.com/events/details/sba-sports-challenge-couch-potato-competition-results-05-20-2010-191
END:VEVENT

END:VCALENDAR
