BEGIN:VCALENDAR
VERSION:2.0
PRODID:-//ChamberMaster//Event Calendar 2.0//EN
METHOD:PUBLISH
X-PUBLISHED-TTL:P3D
REFRESH-INTERVAL:P3D
CALSCALE:GREGORIAN
BEGIN:VEVENT
DTSTART:20120517T194500Z
DTEND:20120518T013000Z
X-MICROSOFT-CDO-ALLDAYEVENT:FALSE
SUMMARY:SBA Sports Challenge & Couch Potato Competition
DESCRIPTION:
X-ALT-DESC;FMTTYPE=text/html:<DIV style='FONT-FAMILY: Arial'><TABLE style='WIDTH: 800px\; mso-cellspacing: 0in\; mso-padding-alt: 0in 0in 0in 0in' class=MsoNormalTable border=0 cellSpacing=0 borderColor=#000000 cellPadding=0 width=800 background=''><TBODY><TR style='HEIGHT: 9pt\; mso-yfti-irow: 0\; mso-yfti-firstrow: yes'><TD style='BORDER-BOTTOM: #ece9d8\; BORDER-LEFT: #ece9d8\; PADDING-BOTTOM: 0in\; PADDING-LEFT: 0in\; PADDING-RIGHT: 0in\; BACKGROUND: #dbddd7\; HEIGHT: 9pt\; BORDER-TOP: #ece9d8\; BORDER-RIGHT: #ece9d8\; PADDING-TOP: 0in' vAlign=top></TD></TR><TR style='mso-yfti-irow: 1'><TD style='BORDER-BOTTOM: #ece9d8\; BORDER-LEFT: #ece9d8\; PADDING-BOTTOM: 11.25pt\; BACKGROUND-COLOR: transparent\; PADDING-LEFT: 11.25pt\; PADDING-RIGHT: 11.25pt\; BORDER-TOP: #ece9d8\; BORDER-RIGHT: #ece9d8\; PADDING-TOP: 0in' vAlign=top><SPAN style='FONT-FAMILY: Arial\; COLOR: #003366\; FONT-SIZE: 28.5pt'><H1 style='TEXT-ALIGN: center\; MARGIN: 0cm 0cm 0pt' align=center></SPAN><FONT face='Times New Roman'><STRONG><FONT size=4></FONT>&nbsp\;</H1></STRONG></FONT></TD></TR><TR style='mso-yfti-irow: 2\; mso-yfti-lastrow: yes'><TD style='BORDER-BOTTOM: #ece9d8\; BORDER-LEFT: #ece9d8\; PADDING-BOTTOM: 12pt\; BACKGROUND-COLOR: transparent\; PADDING-LEFT: 11.25pt\; PADDING-RIGHT: 11.25pt\; BORDER-TOP: #ece9d8\; BORDER-RIGHT: #ece9d8\; PADDING-TOP: 12.75pt' vAlign=top><P style='MARGIN-BOTTOM: 12pt'><SPAN style='COLOR: #003366\; FONT-SIZE: 8.5pt'><FONT face='Times New Roman'><xml:namespace prefix = o ns = 'urn:schemas-microsoft-com:office:office' /><o:p></o:p></FONT></SPAN>&nbsp\;</P></TD></TR></TBODY></TABLE></DIV><DIV style='FONT-FAMILY: Arial'>&nbsp\;</DIV><DIV style='FONT-FAMILY: Arial'>&nbsp\;</DIV><DIV style='FONT-FAMILY: Arial'>&nbsp\;</DIV><DIV style='FONT-FAMILY: Arial'>&nbsp\;</DIV><DIV style='FONT-FAMILY: Arial'>&nbsp\;</DIV><DIV style='FONT-FAMILY: Arial'>&nbsp\;</DIV><DIV style='FONT-FAMILY: Arial'>&nbsp\;</DIV>
LOCATION:Schaumburg Park District - SPORTS CENTER
UID:e.9129.326
SEQUENCE:3
DTSTAMP:20260423T065734Z
URL:https://members.schaumburgbusiness.com/events/details/sba-sports-challenge-couch-potato-competition-05-17-2012-326
END:VEVENT

END:VCALENDAR
