BEGIN:VCALENDAR
VERSION:2.0
PRODID:-//ChamberMaster//Event Calendar 2.0//EN
METHOD:PUBLISH
X-PUBLISHED-TTL:P3D
REFRESH-INTERVAL:P3D
CALSCALE:GREGORIAN
BEGIN:VEVENT
DTSTART:20140925T220000Z
DTEND:20140926T010000Z
X-MICROSOFT-CDO-ALLDAYEVENT:FALSE
SUMMARY:SBA Pinewood Derby
DESCRIPTION:This is the biggest and greatest Business After Hours of the year!\n\n\n\nNew location! \n\nPinewood Derby will be hosted at the Northwest Flyer's Hangar at the Schaumburg Airport\n\nPresenting sponsor is Resnick Auto Group \n\n\n	Official Pinewood Derby races (cars can be purchased starting Aug. 1 from the SBA office)\n	SBA restaurants\, bars and food trucks showcasing their specialties\n	21 yrs+ to attend  \n\n\n\nADMISSION (admission for food and drink for 1) $25\n\n \n\nCAR KIT (includes car kit\, entry into races and 1 admission for food and drink)  $50\n\n \n\nDISPLAY TABLE (20 available: includes admission\, food & drink for 1)\n\n$50 for restaurants and bars\n\n$100 for non-food/drink vendors    \n\n                      \n\nPRESENTING SPONSOR\;  RESNICK AUTO GROUP\n\n \n\nGOLD SPONSORS: Club Colors\n\nAdditional Gold Sponsors available at $2\,500 \n\nIncludes 1 car kit and 10 admissions for food and drink\n\n \n\nSILVER SPONSORS:   Northwest Flyers  \n\nAdditional Silver Sponsors available at $1\,000  \n\nTrack and Trophy sponsors\n\nIncludes 1 car kit and 5 admissions for food and drink\n\n \n\nBRONZE SPONSORS: $250 (10 sponsors available)\n\nNaming Rights for one of the below design categories.  \n\nIncludes 5 admissions for food and drink\n\n   1. Best Overall Company Image - SOLD to Hillard          Heintze\n\n   2. Best Engineered Car\n\n   3. Best Support/Cheer Team - SOLD to AdviCoach\n\n   4. Most Unique Design\n\n   5. Dog Ugliest Car     \n\n   6. Best Sport Theme Car - SOLD to Par Logistics\n\n   7. Most Feminine Car\n\n   8. Best Schaumburg Theme - SOLD to Renaissance      Hotel\n\n   9. Best Funny Car Resemblance\n\n   10. Best Non-car Car
X-ALT-DESC;FMTTYPE=text/html:<span style="font-size:12px\;"><span style="font-family:verdana\;"><span style="color:#000000\;">This is the biggest and greatest Business After Hours of the year!</span><br />\n<br />\n<span style="color:#000000\;"><strong>New location! </strong><br />\nPinewood Derby will be hosted at the Northwest Flyer&#39\;s Hangar at the&nbsp\;Schaumburg Airport<br />\nPresenting sponsor is&nbsp\;Resnick Auto Group</span></span></span><span style="font-size:12px\;"><span style="font-family:verdana\;"> </span></span>\n\n<ul>\n	<li style="color:#606060\;line-height:150%\;-ms-text-size-adjust:100%\;-webkit-text-size-adjust:100%\;"><span style="color:#000000\;"><span style="font-size:12px\;"><span style="font-family:verdana\;">Official Pinewood Derby races (cars can be purchased&nbsp\;starting Aug. 1 from the SBA office)</span></span></span></li>\n	<li style="color:#606060\;line-height:150%\;-ms-text-size-adjust:100%\;-webkit-text-size-adjust:100%\;"><span style="color:#000000\;"><span style="font-size:12px\;"><span style="font-family:verdana\;">SBA restaurants\, bars and food trucks showcasing their specialties</span></span></span></li>\n	<li style="color:#606060\;line-height:150%\;-ms-text-size-adjust:100%\;-webkit-text-size-adjust:100%\;"><span style="color:#000000\;"><span style="font-size:12px\;"><span style="font-family:verdana\;">21 yrs+ to attend &nbsp\;</span></span></span></li>\n</ul>\n<br />\n<strong><u>ADMISSION</u></strong> (admission for food and drink for 1) $25<br />\n&nbsp\;<br />\n<strong><u>CAR KIT</u>&nbsp\;</strong>(includes car kit\, entry into races and 1 admission for food and drink)&nbsp\; $50<br />\n&nbsp\;<br />\n<strong><u>DISPLAY TABLE</u></strong> (20 available: includes admission\, food &amp\; drink for 1)<br />\n$50 for restaurants and bars<br />\n$100 for non-food/drink vendors &nbsp\; &nbsp\;<br />\n&nbsp\; &nbsp\; &nbsp\; &nbsp\; &nbsp\; &nbsp\; &nbsp\; &nbsp\; &nbsp\; &nbsp\; &nbsp\;&nbsp\;<br />\n<strong><u>PRESENTING SPONSOR</u></strong>\;&nbsp\; <strong>RESNICK AUTO GROUP</strong><br />\n&nbsp\;<br />\n<strong><u>GOLD SPONSORS</u></strong>:&nbsp\;<strong>Club Colors</strong><br />\nAdditional Gold Sponsors available at $2\,500&nbsp\;<br />\nIncludes 1 car kit and&nbsp\;10 admissions for food and drink<br />\n&nbsp\;<br />\n<strong><u>SILVER SPONSORS:</u></strong>&nbsp\; &nbsp\;Northwest Flyers &nbsp\;<br />\nAdditional Silver Sponsors available at $1\,000 &nbsp\;<br />\nTrack and Trophy sponsors<br />\nIncludes 1 car kit and&nbsp\;5 admissions for food and drink<br />\n&nbsp\;<br />\n<strong><u>BRONZE SPONSORS</u></strong>: $250 (10 sponsors available)<br />\n<em>Naming Rights for one of the below design categories</em>. &nbsp\;<br />\nIncludes 5 admissions for food and drink<br />\n&nbsp\; &nbsp\;1.&nbsp\;Best Overall Company Image - <strong>SOLD</strong> to Hillard &nbsp\; &nbsp\; &nbsp\; &nbsp\; &nbsp\;Heintze<br />\n&nbsp\; &nbsp\;2.&nbsp\;Best Engineered Car<br />\n&nbsp\; &nbsp\;3.&nbsp\;Best Support/Cheer Team -&nbsp\;<strong>SOLD</strong>&nbsp\;to AdviCoach<br />\n&nbsp\; &nbsp\;4.&nbsp\;Most Unique Design<br />\n&nbsp\; &nbsp\;5.&nbsp\;Dog Ugliest Car&nbsp\;&nbsp\;&nbsp\;&nbsp\;&nbsp\;<br />\n&nbsp\; &nbsp\;6.&nbsp\;Best Sport Theme Car -&nbsp\;<strong>SOLD&nbsp\;</strong>to Par Logistics<br />\n&nbsp\; &nbsp\;7.&nbsp\;Most Feminine Car<br />\n&nbsp\; &nbsp\;8.&nbsp\;Best Schaumburg Theme -<strong> SOLD </strong>to Renaissance &nbsp\; &nbsp\; &nbsp\;Hotel<br />\n&nbsp\; &nbsp\;9.&nbsp\;Best Funny Car Resemblance<br />\n&nbsp\; &nbsp\;10.&nbsp\;Best Non-car Car<br />\n<br />\n&nbsp\;
LOCATION:Schaumburg Airport NW Flyers Hangar 905 W. Irving Park Road Schaumburg\, IL 60193
UID:e.9129.1650
SEQUENCE:3
DTSTAMP:20260419T130134Z
URL:https://members.schaumburgbusiness.com/events/details/sba-pinewood-derby-09-25-2014-1650
END:VEVENT

END:VCALENDAR
