BEGIN:VCALENDAR
VERSION:2.0
PRODID:-//ChamberMaster//Event Calendar 2.0//EN
METHOD:PUBLISH
X-PUBLISHED-TTL:P3D
REFRESH-INTERVAL:P3D
CALSCALE:GREGORIAN
BEGIN:VEVENT
DTSTART:20131202T140000Z
DTEND:20131202T153000Z
X-MICROSOFT-CDO-ALLDAYEVENT:FALSE
SUMMARY:SBA Members are Invited to Attend Legislative Affairs Meeting
DESCRIPTION:You're invited!\n\n	 \n\n	 \n\n	All members of the Schaumburg Business Association are encouraged to get involved with our Legislative Affairs Committee - an open forum for members to discuss issues and advocate for businesses.\n\n	 \n\n	\n\n	December 2\, the featured guest will be Dan Seals\, Assistant Director at Illinois Department of Commerce & Economic Opportunity. \n\n	\n\n	 \n\n	Grab some coffee for sale at Deli Time in our building lobby on your way in and come in ready to discuss!\n\n	 \n\n	 \n\n	 \n\n	We hope to see you there!!
X-ALT-DESC;FMTTYPE=text/html:<div>\n	&nbsp\;</div>\n<div>\n	&nbsp\;</div>\n<div>\n	You&#39\;re invited!</div>\n<div>\n	&nbsp\;</div>\n<div>\n	&nbsp\;</div>\n<div>\n	All members of the Schaumburg Business Association are encouraged to get involved with our Legislative Affairs Committee - an open forum for members to discuss issues and advocate for businesses.</div>\n<div>\n	&nbsp\;</div>\n<div>\n	<br />\n	December 2\, the featured guest will be Dan Seals\, Assistant Director at Illinois Department of Commerce &amp\; Economic Opportunity.&nbsp\;</div>\n<div>\n	<br />\n	&nbsp\;</div>\n<div>\n	Grab some coffee for sale at Deli Time in our building lobby on your way in and come in ready to discuss!</div>\n<div>\n	&nbsp\;</div>\n<div>\n	&nbsp\;</div>\n<div>\n	&nbsp\;</div>\n<div>\n	We hope to see you there!!</div>\n
LOCATION:Schaumburg Corporate Center
UID:e.9129.420
SEQUENCE:3
DTSTAMP:20260420T031747Z
URL:https://members.schaumburgbusiness.com/events/details/sba-members-are-invited-to-attend-legislative-affairs-meeting-12-02-2013-420
END:VEVENT

END:VCALENDAR
