BEGIN:VCALENDAR
VERSION:2.0
PRODID:-//ChamberMaster//Event Calendar 2.0//EN
METHOD:PUBLISH
X-PUBLISHED-TTL:P3D
REFRESH-INTERVAL:P3D
CALSCALE:GREGORIAN
BEGIN:VEVENT
DTSTART:20131104T140000Z
DTEND:20131104T153000Z
X-MICROSOFT-CDO-ALLDAYEVENT:FALSE
SUMMARY:SBA Members are Invited to Attend Legislative Affairs Meeting
DESCRIPTION:All members of the Schaumburg Business Association are encouraged to get involved with our Legislative Affairs Committee\, an open forum for everyone to discuss issues and advocate for businesses.\n\n	Grab some coffee for sale at Deli Time in our building lobby on your way in and come in ready to discuss.\n\n	We hope to see you there!
X-ALT-DESC;FMTTYPE=text/html:<p class="MsoNormal" style="line-height: normal\; margin: 0in 0in 0pt\; font-family: Arial\;">\n	<span style="color: rgb(0\, 0\, 0)\; font-family: arial\; font-size: 14px\;">All members of the Schaumburg Business Association are encouraged to get involved with our Legislative Affairs Committee\, an open forum for everyone to discuss issues and advocate for businesses.</span></p>\n<p>\n	<span style="color:#000000\;"><span style="font-family:arial\;"><span style="font-size:14px\;"><span font-size:="" mso-fareast-font-family:="" new="" times=""><span font-size:="" mso-ansi-language:="" mso-bidi-language:="" mso-fareast-font-family:="" mso-fareast-language:="" mso-fareast-theme-font:="" new="" times=""><span>Grab some coffee for sale at Deli Time in our building lobby on your way in and come in ready to discuss.</span></span></span></span></span></span></p>\n<p>\n	<span style="color:#000000\;"><span style="font-family:arial\;"><span style="font-size:14px\;"><span font-size:="" mso-fareast-font-family:="" new="" times=""><span font-size:="" mso-ansi-language:="" mso-bidi-language:="" mso-fareast-font-family:="" mso-fareast-language:="" mso-fareast-theme-font:="" new="" times=""><span>We hope to see you there!</span></span></span></span></span></span></p>\n<p align="center">\n	<span font-size:="" mso-fareast-font-family:="" new="" style="FONT-FAMILY: " times=""><span font-size:="" mso-ansi-language:="" mso-bidi-language:="" mso-fareast-font-family:="" mso-fareast-language:="" mso-fareast-theme-font:="" new="" style="FONT-FAMILY: " times=""><font size="5"><font size="3"><span style="FONT-FAMILY: "><font size="3"><font size="3">&nbsp\;</font></font></span></font></font></span></span></p>\n<p align="center">\n	<span font-size:="" mso-fareast-font-family:="" new="" style="FONT-FAMILY: " times=""><span font-size:="" mso-ansi-language:="" mso-bidi-language:="" mso-fareast-font-family:="" mso-fareast-language:="" mso-fareast-theme-font:="" new="" style="FONT-FAMILY: " times=""><font size="5"><font size="3"><span style="FONT-FAMILY: "><font size="3"><font size="3"><font color="#000080"><font size="4">&nbsp\;</font></font></font></font></span></font></font></span></span></p>\n
LOCATION:Schaumburg Corporate Center
UID:e.9129.415
SEQUENCE:3
DTSTAMP:20260420T064507Z
URL:https://members.schaumburgbusiness.com/events/details/sba-members-are-invited-to-attend-legislative-affairs-meeting-11-04-2013-415
END:VEVENT

END:VCALENDAR
