BEGIN:VCALENDAR
VERSION:2.0
PRODID:-//ChamberMaster//Event Calendar 2.0//EN
METHOD:PUBLISH
X-PUBLISHED-TTL:P3D
REFRESH-INTERVAL:P3D
CALSCALE:GREGORIAN
BEGIN:VEVENT
DTSTART:20131007T130000Z
DTEND:20131007T143000Z
X-MICROSOFT-CDO-ALLDAYEVENT:FALSE
SUMMARY:SBA Members are Invited to Attend Legislative Affairs Meeting
DESCRIPTION:You’re invited! All members of the Schaumburg Business Association are encouraged to get involved with our Legislative Affairs Committee – an open forum for everyone to discuss issues and advocate for businesses.  Grab some coffee for sale at Deli Time in our building lobby on your way in and come in ready to discuss! We hope to see you there!!
X-ALT-DESC;FMTTYPE=text/html:<P style='TEXT-ALIGN: center\; LINE-HEIGHT: normal\; MARGIN: 0in 0in 0pt\; FONT-FAMILY: Arial' class=MsoNormal align=center><SPAN style='FONT-FAMILY: 'Times New Roman'\,'serif'\; FONT-SIZE: 12pt\; mso-fareast-font-family: 'Times New Roman''><SPAN style='FONT-FAMILY: 'Times New Roman'\,'serif'\; FONT-SIZE: 12pt\; mso-fareast-font-family: Calibri\; mso-fareast-theme-font: minor-latin\; mso-ansi-language: EN-US\; mso-fareast-language: EN-US\; mso-bidi-language: AR-SA'></SPAN></SPAN></P><SPAN style='FONT-FAMILY: 'Times New Roman'\,'serif'\; FONT-SIZE: 12pt\; mso-fareast-font-family: 'Times New Roman''><SPAN style='FONT-FAMILY: 'Times New Roman'\,'serif'\; FONT-SIZE: 12pt\; mso-fareast-font-family: Calibri\; mso-fareast-theme-font: minor-latin\; mso-ansi-language: EN-US\; mso-fareast-language: EN-US\; mso-bidi-language: AR-SA'><FONT size=5><FONT size=3><SPAN style='FONT-FAMILY: 'Arial'\,'sans-serif''><P style='FONT-FAMILY: Arial' align=left></P><P style='FONT-FAMILY: Arial'></P><P style='FONT-FAMILY: Arial' align=center><B><FONT size=7><FONT color=#000080>You’re invited!</FONT></P></FONT><P style='FONT-FAMILY: Arial' align=center>&nbsp\;</P><P style='FONT-FAMILY: Arial' align=center><FONT color=#0080ff size=5>All members of the Schaumburg Business Association are encouraged to get involved with our Legislative Affairs Committee – an open forum for everyone to discuss issues and advocate for businesses</FONT></B><FONT color=#0080ff size=5>. </FONT></P><P style='FONT-FAMILY: Arial' align=center>&nbsp\;</P><FONT size=3><FONT size=3><P align=left></P><P align=center><FONT color=#000080><STRONG>Grab some coffee for sale at Deli Time in our building lobby on your way in and come in ready to discuss!</STRONG></FONT></P><P align=center><STRONG><FONT color=#000080></FONT></STRONG>&nbsp\;</P><P align=center><FONT color=#000080 size=5><STRONG>We hope to see you there!!</STRONG></FONT></P><P align=center><STRONG><FONT color=#000080></FONT></STRONG>&nbsp\;</P><P align=center><FONT color=#000080><FONT size=4>&nbsp\;</P></FONT></FONT></FONT></FONT></SPAN></FONT></FONT></SPAN></SPAN>
LOCATION:Schaumburg Corporate Center
UID:e.9129.409
SEQUENCE:3
DTSTAMP:20260420T064455Z
URL:https://members.schaumburgbusiness.com/events/details/sba-members-are-invited-to-attend-legislative-affairs-meeting-10-07-2013-409
END:VEVENT

END:VCALENDAR
