BEGIN:VCALENDAR
VERSION:2.0
PRODID:-//ChamberMaster//Event Calendar 2.0//EN
METHOD:PUBLISH
X-PUBLISHED-TTL:P3D
REFRESH-INTERVAL:P3D
CALSCALE:GREGORIAN
BEGIN:VEVENT
DTSTART:20130909T130000Z
DTEND:20130909T143000Z
X-MICROSOFT-CDO-ALLDAYEVENT:FALSE
SUMMARY:SBA Members are Invited to Attend Legislative Affairs Meeting
DESCRIPTION:You are invited All members of the Schaumburg Business Association are encouraged to get involved with our Legislative Affairs Committee.  An open forum for everyone to discuss issues and advocate for businesses.  Septembers meeting welcomes  Schaumburgs new Village Manager\, Brian Townsend &State Representative Michelle Mussman.   Find out what's new in the Village and issues that are important to the SBA business community.   Grab some coffee for sale at Deli Time in our building lobby on your way in and come in ready to discuss!We hope to see you there.
X-ALT-DESC;FMTTYPE=text/html:<P class=MsoNormal style='FONT-FAMILY: Arial\; TEXT-ALIGN: center\; MARGIN: 0in 0in 0pt\; LINE-HEIGHT: normal' align=center><SPAN style='FONT-SIZE: 12pt\; FONT-FAMILY: 'Times New Roman'\,'serif'\; mso-fareast-font-family: 'Times New Roman''><SPAN style='FONT-SIZE: 12pt\; FONT-FAMILY: 'Times New Roman'\,'serif'\; mso-fareast-font-family: Calibri\; mso-fareast-theme-font: minor-latin\; mso-ansi-language: EN-US\; mso-fareast-language: EN-US\; mso-bidi-language: AR-SA'></SPAN></SPAN></P><SPAN style='FONT-SIZE: 12pt\; FONT-FAMILY: 'Times New Roman'\,'serif'\; mso-fareast-font-family: 'Times New Roman''><SPAN style='FONT-SIZE: 12pt\; FONT-FAMILY: 'Times New Roman'\,'serif'\; mso-fareast-font-family: Calibri\; mso-fareast-theme-font: minor-latin\; mso-ansi-language: EN-US\; mso-fareast-language: EN-US\; mso-bidi-language: AR-SA'><FONT size=5><FONT size=3><SPAN style='FONT-FAMILY: 'Arial'\,'sans-serif''><P style='FONT-FAMILY: Arial' align=left></P><P style='FONT-FAMILY: Arial'></P><P style='FONT-FAMILY: Arial' align=center><FONT color=#000000 size=4>You are invited</FONT></P><P style='FONT-FAMILY: Arial' align=center><FONT color=#000000 size=4></FONT>&nbsp\;</P><P style='FONT-FAMILY: Arial' align=center><FONT color=#000000 size=4>All members of the Schaumburg Business Association are encouraged to get involved with our Legislative Affairs Committee.&nbsp\;&nbsp\;An open forum for everyone to discuss issues and advocate for businesses</FONT><FONT color=#000000 size=4>. </FONT></P><P style='FONT-FAMILY: Arial' align=center><FONT size=4></FONT>&nbsp\;</P><P style='FONT-FAMILY: Arial' align=center><FONT color=#000000 size=4>Septembers meeting welcomes </FONT></P><P style='FONT-FAMILY: Arial' align=center><FONT size=4></FONT>&nbsp\;</P><P style='FONT-FAMILY: Arial' align=center><FONT color=#000000 size=4>Schaumburgs new Village Manager\, </FONT></P><P style='FONT-FAMILY: Arial' align=center><FONT color=#000000 size=4><STRONG>Brian Townsend</STRONG> </FONT></P><P style='FONT-FAMILY: Arial' align=center><FONT size=4>&amp\;</FONT></P><P style='FONT-FAMILY: Arial' align=center><FONT color=#000000 size=4>State Representative </FONT></P><P style='FONT-FAMILY: Arial' align=center><FONT color=#000000 size=4><STRONG>Michelle Mussman</STRONG>.&nbsp\; </FONT></P><P style='FONT-FAMILY: Arial' align=center><FONT color=#000000 size=4></FONT>&nbsp\;</P><P style='FONT-FAMILY: Arial' align=center><FONT color=#000000 size=4>Find out what's new in the Village and issues that are important to the SBA business community. </P><P class=MsoNormal style='MARGIN: 0in 0in 0pt'><P class=MsoNormal style='MARGIN: 0in 0in 0pt 21pt\; TEXT-INDENT: -0.25in\; mso-list: l0 level1 lfo1\; tab-stops: list 21.0pt'><SPAN style='FONT-SIZE: 10pt\; FONT-FAMILY: 'Arial'\,'sans-serif''></SPAN></FONT><FONT size=4></FONT></P><P></P><P style='FONT-FAMILY: Arial' align=center><FONT size=4></FONT>&nbsp\;</P><P style='FONT-FAMILY: Arial' align=center>&nbsp\;</P><FONT size=3><FONT size=3><P align=left><FONT color=#000000 size=4></FONT></P><P align=center><FONT color=#000000 size=4>Grab some coffee for sale at Deli Time in our building lobby on your way in and come in ready to discuss!</FONT></P><P align=center><FONT color=#000000 size=4>We hope to see you there.</FONT></P><P align=center><FONT color=#000080></FONT>&nbsp\;</P><P align=center><FONT color=#000080><FONT size=4>&nbsp\;</P></FONT></FONT></FONT></FONT></SPAN></FONT></FONT></SPAN></SPAN>
LOCATION:Schaumburg Corporate Center
UID:e.9129.398
SEQUENCE:3
DTSTAMP:20260422T083858Z
URL:https://members.schaumburgbusiness.com/events/details/sba-members-are-invited-to-attend-legislative-affairs-meeting-09-09-2013-398
END:VEVENT

END:VCALENDAR
