BEGIN:VCALENDAR
VERSION:2.0
PRODID:-//ChamberMaster//Event Calendar 2.0//EN
METHOD:PUBLISH
X-PUBLISHED-TTL:P3D
REFRESH-INTERVAL:P3D
CALSCALE:GREGORIAN
BEGIN:VEVENT
DTSTART:20130805T130000Z
DTEND:20130805T143000Z
X-MICROSOFT-CDO-ALLDAYEVENT:FALSE
SUMMARY:SBA Members are Invited to Attend Legislative Affairs Meeting
DESCRIPTION:Attention Legislative Affairs Committee Members and other interested SBA Members and supporters:We have a special event planned for our next meeting\, Kelly Clancy from Alexian Brothers Health Systems will be presenting US Healthcare System Transformation\, Issues in Brief\nI heard Kellys excellent presentation last week. The changes coming to our healthcare system are big and very important.  Our committee has already heard on this subject from the IL Chamber\, however\, each stakeholder describes the impact of the new law differently. Business owners\, agents\, insurance carriers\, health care providers and insureds each have different issues and concerns. Kellys presentation provides a great overview of ACA and the perspective from the largest healthcare provider in our area.\nThe meeting will be held in Room 7 of the Womens and Childrens Hospital on the campus of St. Alexius Medical Center from 8 AM to 9:30 AM on Monday August 5.  Please RSVP to me at kjevans@kfia.net\, as our hosts will be providing breakfast and we need an approximate headcount.\nDirections to the meeting are attached.  For those of you who have not been to the new Womens and Childrens Hospital\, the building is located next to the emergency room entrance (East side) of the campus.  There is a convenient multi-level parking garage adjacent to the emergency room. Use the Pediatrics Entrance of the new building\, take the elevator down to the lower level\, Room 7 is across from the elevator.\nI hope to see you all there. Please feel free to bring staff or other interested parties.  Please remember to RSVP to me kjevans@kfia.net\n\nThanks\,\n \nKeith EvansLegislative Affairs Chair\nKey Financial Insurance Agency\, Inc.
X-ALT-DESC;FMTTYPE=text/html:<SPAN style='FONT-SIZE: 12pt\; FONT-FAMILY: 'Times New Roman'\,'serif'\; mso-fareast-font-family: 'Times New Roman''><SPAN style='FONT-SIZE: 12pt\; FONT-FAMILY: 'Times New Roman'\,'serif'\; mso-fareast-font-family: Calibri\; mso-fareast-theme-font: minor-latin\; mso-ansi-language: EN-US\; mso-fareast-language: EN-US\; mso-bidi-language: AR-SA'><FONT size=5><FONT size=3><SPAN style='FONT-FAMILY: 'Arial'\,'sans-serif''><P style='FONT-FAMILY: Arial' align=left><FONT size=3><FONT size=3>Attention Legislative Affairs Committee Members and other interested SBA Members and supporters:</P><P align=left>We have a special event planned for our next meeting\, Kelly Clancy from Alexian Brothers Health Systems will be presenting US Healthcare System Transformation\,&nbsp\;Issues in Brief</P><BR><P align=left>I heard Kellys excellent presentation last week. The changes coming to our healthcare system are big and very important.&nbsp\; Our committee has already heard on this subject from the IL Chamber\, however\, each stakeholder describes the impact of the new law differently. Business owners\, agents\, insurance carriers\, health care providers and insureds each have different issues and concerns. Kellys presentation provides a great overview of ACA and the perspective from the largest healthcare provider in our area.</P><P align=left><BR>The meeting will be held in Room 7 of the Womens and Childrens Hospital on the campus of St. Alexius Medical Center from 8 AM to 9:30 AM on Monday August 5.&nbsp\; Please RSVP to me at <A href='mailto:kjevans@kfia.net'>kjevans@kfia.net</A>\, as our hosts will be providing breakfast and we need an approximate headcount.</P><BR><P align=left>Directions to the meeting are attached.&nbsp\; For those of you who have not been to the new Womens and Childrens Hospital\, the building is located next to the emergency room entrance (East side) of the campus.&nbsp\; There is a convenient multi-level parking garage adjacent to the emergency room. Use the Pediatrics Entrance of the new building\, take the elevator down to the lower level\, Room 7 is across from the elevator.</P><BR><P align=left>I hope to see you all there. Please feel free to bring staff or other interested parties.&nbsp\; Please remember to RSVP to me <A href='mailto:kjevans@kfia.net'>kjevans@kfia.net</A><BR><BR>Thanks\,<BR>&nbsp\;<BR>Keith Evans</P><P align=left>Legislative Affairs Chair<BR>Key Financial Insurance Agency\, Inc.<BR></P></FONT></FONT></SPAN></FONT></FONT></SPAN></SPAN>
LOCATION:Women's and Children's Hospital (east side) on the campus of
UID:e.9129.394
SEQUENCE:3
DTSTAMP:20260422T085142Z
URL:https://members.schaumburgbusiness.com/events/details/sba-members-are-invited-to-attend-legislative-affairs-meeting-08-05-2013-394
END:VEVENT

END:VCALENDAR
