BEGIN:VCALENDAR
VERSION:2.0
PRODID:-//ChamberMaster//Event Calendar 2.0//EN
METHOD:PUBLISH
X-PUBLISHED-TTL:P3D
REFRESH-INTERVAL:P3D
CALSCALE:GREGORIAN
BEGIN:VEVENT
DTSTART:20120329T220000Z
DTEND:20120330T003000Z
X-MICROSOFT-CDO-ALLDAYEVENT:FALSE
SUMMARY:SBA Members are Invited to Attend a Multi-Chamber Networking Event
DESCRIPTION:Networking At Night: Multi-Chamber EventCome out and join Palatine and Barrington Chambers along with the Schaumburg Business Association on Thursday\, March 29\, 2012 from 5PM – 7:30PM. Enjoy wine\, beer appetizers and raffles brought to you by Waist Up Imprinted Sportswear! See you on the 29th at 422 S. Vermont St. –Palatine – 60067.
X-ALT-DESC;FMTTYPE=text/html:<DIV style='FONT-FAMILY: Arial'><P style='TEXT-ALIGN: center\; LINE-HEIGHT: normal\; MARGIN: 0in 0in 0pt' class=MsoNormal align=center><SPAN style='FONT-FAMILY: 'Times New Roman'\,'serif'\; FONT-SIZE: 12pt\; mso-fareast-font-family: 'Times New Roman''><SPAN style='FONT-FAMILY: 'Times New Roman'\,'serif'\; FONT-SIZE: 12pt\; mso-fareast-font-family: Calibri\; mso-fareast-theme-font: minor-latin\; mso-ansi-language: EN-US\; mso-fareast-language: EN-US\; mso-bidi-language: AR-SA'></SPAN></SPAN></P><SPAN style='FONT-FAMILY: 'Times New Roman'\,'serif'\; FONT-SIZE: 12pt\; mso-fareast-font-family: 'Times New Roman''><SPAN style='FONT-FAMILY: 'Times New Roman'\,'serif'\; FONT-SIZE: 12pt\; mso-fareast-font-family: Calibri\; mso-fareast-theme-font: minor-latin\; mso-ansi-language: EN-US\; mso-fareast-language: EN-US\; mso-bidi-language: AR-SA'><FONT size=5 face=Arial><SPAN style='FONT-FAMILY: 'Arial'\,'sans-serif'\; FONT-SIZE: 12pt\; mso-fareast-font-family: Calibri\; mso-fareast-theme-font: minor-latin\; mso-ansi-language: EN-US\; mso-fareast-language: EN-US\; mso-bidi-language: AR-SA'><P align=center><B><SPAN style='FONT-FAMILY: 'Arial'\,'sans-serif'\; COLOR: darkcyan\; FONT-SIZE: 12.5pt'></SPAN></B>&nbsp\;</P><P align=center><B><SPAN style='FONT-FAMILY: 'Arial'\,'sans-serif'\; COLOR: darkcyan\; FONT-SIZE: 12.5pt'></SPAN></B>&nbsp\;</P><P align=center><B><SPAN style='FONT-FAMILY: 'Arial'\,'sans-serif'\; COLOR: darkcyan\; FONT-SIZE: 12.5pt'><FONT size=6><FONT color=#800040>Networking At Night: Multi-Chamber Event<xml:namespace prefix = o ns = 'urn:schemas-microsoft-com:office:office' /><o:p></o:p></FONT></FONT></SPAN></B></P><xml:namespace prefix = v ns = 'urn:schemas-microsoft-com:vml' /><v:shapetype id=_x0000_t32 filled='f' path='m\,l21600\,21600e' o:oned='t' o:spt='32' coordsize='21600\,21600'><v:path o:connecttype='none' fillok='f' arrowok='t'></v:path><o:lock shapetype='t' v:ext='edit'></o:lock></v:shapetype><P style='MARGIN: 0in 0in 10pt' class=MsoNormal align=center><v:shape style='Z-INDEX: 251661312\; POSITION: absolute\; MARGIN-TOP: 78.6pt\; WIDTH: 2.3pt\; HEIGHT: 481.85pt\; MARGIN-LEFT: 315.3pt' id=_x0000_s1026 o:connectortype='straight' type='#_x0000_t32'></v:shape><STRONG><FONT size=5><SPAN style='LINE-HEIGHT: 115%\; FONT-FAMILY: 'Arial'\,'sans-serif'\; FONT-SIZE: 10.5pt'>Come out and join Palatine and Barrington Chambers along with the Schaumburg Business Association on Thursday\, March 29\, 2012 from 5PM – 7:30PM. Enjoy wine\, beer appetizers and raffles brought to you by&nbsp\;Waist Up Imprinted Sportswear!</SPAN><SPAN style='LINE-HEIGHT: 115%\; FONT-FAMILY: 'Arial'\,'sans-serif'\; FONT-SIZE: 10.5pt'>&nbsp\;See you on the 29<SUP>th</SUP> at 422 S. Vermont St. –Palatine – 60067.<o:p></o:p></SPAN></FONT></STRONG></P><P style='MARGIN: 0in 0in 12pt' class=MsoNormal align=center></SPAN></FONT></SPAN></SPAN>&nbsp\;</P></DIV>
LOCATION:Waist Up Imprinted Sportswear
UID:e.9129.338
SEQUENCE:3
DTSTAMP:20260423T100158Z
URL:https://members.schaumburgbusiness.com/events/details/sba-members-are-invited-to-attend-a-multi-chamber-networking-event-03-29-2012-338
END:VEVENT

END:VCALENDAR
