BEGIN:VCALENDAR
VERSION:2.0
PRODID:-//ChamberMaster//Event Calendar 2.0//EN
METHOD:PUBLISH
X-PUBLISHED-TTL:P3D
REFRESH-INTERVAL:P3D
CALSCALE:GREGORIAN
BEGIN:VEVENT
DTSTART:20101117T200000Z
DTEND:20101118T010000Z
X-MICROSOFT-CDO-ALLDAYEVENT:FALSE
SUMMARY:SBA EXPO 2010
DESCRIPTION:Please visit thespecial event Websitefor details  www.schaumburgbusiness.com/expo   Contact SBA Member Services CoordinatorLaura Goldberg with questionsor if you would like more information:847.413.1010 or lgoldberg@schaumburgbusiness.com
X-ALT-DESC;FMTTYPE=text/html:<DIV><FONT color=#000040 size=6 face=Arial>Please visit&nbsp\;the</FONT></DIV><DIV><FONT color=#000040 size=6 face=Arial>special event Website</FONT></DIV><DIV><FONT color=#000040 size=6 face=Arial>for details </FONT></DIV><DIV><FONT size=6 face=Arial></FONT>&nbsp\;</DIV><DIV><FONT face='Times New Roman'><A style='COLOR: blue\; TEXT-DECORATION: underline' title='' dataFld=0:0 href='http://www.schaumburgbusiness.com/expo/' target=_self><FONT color=#0000ff size=6>www.schaumburgbusiness.com/expo</FONT></A><FONT color=#0000ff size=6>&nbsp\;</FONT></FONT></DIV><DIV>&nbsp\;</DIV><DIV>&nbsp\;</DIV><DIV><FONT color=#000040 size=5>Contact SBA Member Services Coordinator</FONT></DIV><DIV><FONT color=#000040 size=5>Laura Goldberg with questions</FONT></DIV><DIV><FONT color=#000040 size=5>or if you would like more information:</FONT></DIV><DIV><FONT color=#000040 size=5>847.413.1010 or </FONT><FONT color=#0000ff size=5><A style='COLOR: blue\; TEXT-DECORATION: underline' title='' dataFld=0:0 href='mailto:lgoldberg@schaumburgbusiness.com' target=_self>lgoldberg@schaumburgbusiness.com</A></FONT></DIV>
LOCATION:Renaissance Schaumburg Convention Center Hotel
UID:e.9129.208
SEQUENCE:3
DTSTAMP:20260424T072020Z
URL:https://members.schaumburgbusiness.com/events/details/sba-expo-2010-11-17-2010-208
END:VEVENT

END:VCALENDAR
