BEGIN:VCALENDAR
VERSION:2.0
PRODID:-//ChamberMaster//Event Calendar 2.0//EN
METHOD:PUBLISH
X-PUBLISHED-TTL:P3D
REFRESH-INTERVAL:P3D
CALSCALE:GREGORIAN
BEGIN:VEVENT
DTSTART:20121115T190000Z
DTEND:20121116T010000Z
X-MICROSOFT-CDO-ALLDAYEVENT:FALSE
SUMMARY:SBA Business EXPO 2012
DESCRIPTION:Give Your Business The EXPOsure It Deserves! Be A Part Of THE Business EXPO Of The Year!!2012 SBA EXPO Is Where YOUR Business Needs To Be!! * Sponsorship Opportunities* Private Exhibiitor Networking Event* Hunt For The Grand Contest* Hundreds Of Exhibitors* Thousands Of Attendees* Vendor Sales On Exhibit Floor* Broad Media Exposure* World's Biggest Business After Hours* Free Parking* AND YOU!!!
X-ALT-DESC;FMTTYPE=text/html:<FONT color=#44413f size=4 face=HelveticaNeueLTStd-BdEx><FONT color=#44413f size=4 face=HelveticaNeueLTStd-BdEx><FONT color=#44413f size=4 face=HelveticaNeueLTStd-BdEx><P align=center><FONT size=5>Give Your Business The <U>EXPO</U>sure It Deserves! Be A Part Of THE Business EXPO Of The Year!!</FONT></P><P align=center><FONT size=5>2012 SBA EXPO Is Where YOUR Business Needs To Be!!</FONT></P><P align=center><FONT size=5></FONT>&nbsp\;</P><P align=center><FONT size=5>* Sponsorship Opportunities</FONT></P><P align=center><FONT size=5>* Private Exhibiitor Networking Event</FONT></P><P align=center><FONT size=5>* Hunt For The Grand Contest</FONT></P><P align=center><FONT size=5>* Hundreds Of Exhibitors</FONT></P><P align=center><FONT size=5>* Thousands Of Attendees</FONT></P><P align=center><FONT size=5>* Vendor Sales On Exhibit Floor</FONT></P><P align=center><FONT size=5>* Broad Media Exposure</FONT></P><P align=center><FONT size=5>* World's Biggest Business After Hours</FONT></P><P align=center><FONT size=5>* Free Parking</FONT></P><P align=center><FONT size=5>* AND YOU!!!</FONT></P><P align=center><FONT size=5></FONT>&nbsp\;</P><P align=center><FONT size=5></FONT>&nbsp\;</P><P align=center><FONT size=5></FONT></FONT></FONT></FONT>&nbsp\;</P>
LOCATION:Renaissance Schaumburg Convention Center Hotel
UID:e.9129.328
SEQUENCE:3
DTSTAMP:20260422T230652Z
URL:https://members.schaumburgbusiness.com/events/details/sba-business-expo-2012-11-15-2012-328
END:VEVENT

END:VCALENDAR
