BEGIN:VCALENDAR
VERSION:2.0
PRODID:-//ChamberMaster//Event Calendar 2.0//EN
METHOD:PUBLISH
X-PUBLISHED-TTL:P3D
REFRESH-INTERVAL:P3D
CALSCALE:GREGORIAN
BEGIN:VEVENT
DTSTART:20111116T190000Z
DTEND:20111117T010000Z
X-MICROSOFT-CDO-ALLDAYEVENT:FALSE
SUMMARY:SBA Business EXPO 2011
DESCRIPTION:CLICK HERE TOVISIT THE OFFICIALSBA BUSINESS EXPO WEBSITE*  FLOOR PLAN & LIST OF EXHIBITORS*  SCHEDULE OF EVENTS*EVERYTHING YOU NEED TO KNOW!
X-ALT-DESC;FMTTYPE=text/html:<FONT color=#44413f size=4 face=HelveticaNeueLTStd-BdEx><FONT color=#44413f size=4 face=HelveticaNeueLTStd-BdEx><FONT color=#44413f size=4 face=HelveticaNeueLTStd-BdEx><P align=center><A href='http://sbaexpo.com/'><FONT color=#0000ff size=5>CLICK HERE TO</FONT></A></P><P align=center><A href='http://sbaexpo.com/'><FONT color=#0000ff size=5>VISIT THE OFFICIAL</FONT></A></P><P align=center><A href='http://sbaexpo.com/'><FONT color=#0000ff size=5>SBA BUSINESS EXPO WEBSITE</FONT></A></P><P align=center><FONT size=5>*&nbsp\; FLOOR PLAN&nbsp\;&amp\; LIST OF EXHIBITORS</FONT></P><P align=center><FONT size=5>*&nbsp\; SCHEDULE OF EVENTS</FONT></P><P align=center><FONT size=5>*EVERYTHING YOU NEED TO KNOW!&nbsp\;</FONT></FONT></FONT></FONT></P>
LOCATION:Renaissance Schaumburg Convention Center Hotel
UID:e.9129.276
SEQUENCE:3
DTSTAMP:20260423T154812Z
URL:https://members.schaumburgbusiness.com/events/details/sba-business-expo-2011-11-16-2011-276
END:VEVENT

END:VCALENDAR
