BEGIN:VCALENDAR
VERSION:2.0
PRODID:-//ChamberMaster//Event Calendar 2.0//EN
METHOD:PUBLISH
X-PUBLISHED-TTL:P3D
REFRESH-INTERVAL:P3D
CALSCALE:GREGORIAN
BEGIN:VEVENT
DTSTART:20091211T140000Z
DTEND:20091211T153000Z
X-MICROSOFT-CDO-ALLDAYEVENT:FALSE
SUMMARY:Sales Institute 2009 - Program 4
DESCRIPTION:Schaumburg Business Association Sales Institute 2009 Sales Institute 2009 is a series of programs that focuses on improving behaviors and attitudes to achieve the maximum results for your business. The Institute is designed to help individuals who truly have the desire to exceed goals and improve their bottom line. December 11\, 2009 Program IVHow to Make 2010 Better Than 2009 At this point\, you are doing okay but want to do better. Learn how to achieve your sales goals through your associates not just yourself.  Program details Coming Soon! For more information contact\, Andrea Biwer at 847-413-1010 ext. 11.
X-ALT-DESC;FMTTYPE=text/html:<DIV style='FONT-FAMILY: Arial'><P class=MsoNormal style='MARGIN: 0in 0in 0pt'><B style='mso-bidi-font-weight: normal'><SPAN style='FONT-SIZE: 11pt\; FONT-FAMILY: 'Baskerville Old Face'\; mso-bidi-font-family: Arial'><xml:namespace prefix = o ns = 'urn:schemas-microsoft-com:office:office' /><o:p><FONT face='Times New Roman'>&nbsp\;</P><P class=MsoNormal style='MARGIN: 0in 0in 0pt'><B style='mso-bidi-font-weight: normal'><SPAN style='mso-spacerun: yes'><FONT face='Times New Roman'>&nbsp\;<SPAN style='FONT-SIZE: 14pt\; TEXT-TRANSFORM: uppercase\; COLOR: #003399\; FONT-FAMILY: 'Baskerville Old Face'\; mso-bidi-font-family: Arial'><U>Schaumburg Business Association Sales Institute 2009</U></SPAN></P><P class=MsoNormal style='MARGIN: 0in 0in 0pt'><SPAN style='FONT-SIZE: 11pt\; FONT-FAMILY: Arial'><o:p><FONT face='Times New Roman'>&nbsp\;</FONT></o:p></SPAN></P><P class=MsoNormal style='MARGIN: 0in 0in 0pt'><FONT face='Times New Roman'><B style='mso-bidi-font-weight: normal'><SPAN style='FONT-SIZE: 11pt\; FONT-FAMILY: 'Baskerville Old Face'\; mso-bidi-font-family: Arial'>Sales Institute 2009 is a series of programs that focuses on improving behaviors and attitudes to achieve the maximum results for your business. The Institute is designed to help individuals who truly</SPAN></B><SPAN style='FONT-SIZE: 11pt\; FONT-FAMILY: 'Baskerville Old Face'\; mso-bidi-font-family: Arial'> <B style='mso-bidi-font-weight: normal'>have the desire to exceed goals and improve their bottom line.</B></SPAN></FONT></P><P class=MsoNormal style='MARGIN: 0in 0in 0pt'><FONT face='Times New Roman'><SPAN style='FONT-SIZE: 11pt\; FONT-FAMILY: 'Baskerville Old Face'\; mso-bidi-font-family: Arial'><STRONG></STRONG></SPAN></FONT>&nbsp\;</P><FONT face='Times New Roman'><SPAN style='FONT-SIZE: 11pt\; FONT-FAMILY: 'Baskerville Old Face'\; mso-bidi-font-family: Arial'><P class=MsoNormal style='MARGIN: 0in 0in 0pt'><SPAN style='FONT-FAMILY: 'Baskerville Old Face''><o:p><FONT size=3></FONT></o:p></SPAN></P><P class=MsoNormal style='MARGIN: 0in 0in 0pt'><SPAN style='FONT-FAMILY: 'Baskerville Old Face''><STRONG><FONT size=3>December 11<xml:namespace prefix = st1 ns = 'urn:schemas-microsoft-com:office:smarttags' /><st1:PersonName w:st='on'>\,</st1:PersonName> 2009 Program IV<o:p></o:p></FONT></STRONG></SPAN></P><P class=MsoNormal style='MARGIN: 0in 0in 0pt'><SPAN style='FONT-FAMILY: 'Baskerville Old Face''><STRONG><FONT size=3>How to Make 2010 Better Than 2009<o:p></o:p></FONT></STRONG></SPAN></P><P class=MsoNormal style='MARGIN: 0in 0in 0pt'><SPAN style='FONT-FAMILY: 'Baskerville Old Face''><o:p><STRONG><FONT size=3>&nbsp\;</FONT></STRONG></o:p></SPAN></P><P class=MsoNormal style='MARGIN: 0in 0in 0pt'><SPAN style='FONT-FAMILY: 'Baskerville Old Face''><FONT size=3>At this point<st1:PersonName w:st='on'>\,</st1:PersonName> you are doing okay but want to do better. Learn how to achieve your sales goals through your associates not just yourself. <o:p></o:p></FONT></SPAN></P><P class=MsoNormal style='MARGIN: 0in 0in 0pt'></SPAN></FONT><SPAN style='FONT-SIZE: 11pt\; FONT-FAMILY: 'Baskerville Old Face'\; mso-bidi-font-family: Arial'><B style='mso-bidi-font-weight: normal'><FONT face='Times New Roman'></FONT></B></SPAN>&nbsp\;</P><P class=MsoNormal style='MARGIN: 0in 0in 0pt'><SPAN style='FONT-SIZE: 11pt\; FONT-FAMILY: 'Baskerville Old Face'\; mso-bidi-font-family: Arial'><B style='mso-bidi-font-weight: normal'><FONT face='Times New Roman'>Program details Coming Soon!&nbsp\;For more information contact\,&nbsp\;Andrea Biwer&nbsp\;at 847-413-1010 ext. 11. </FONT></B></SPAN></P></FONT></SPAN></B></FONT></o:p></SPAN></B><P class=MsoNormal style='MARGIN: 0in 0in 0pt'><B><SPAN style='FONT-SIZE: 8pt\; FONT-FAMILY: 'Baskerville Old Face'\; mso-bidi-font-family: Arial'><o:p><FONT face='Times New Roman'>&nbsp\;</FONT></o:p></SPAN></B></P></DIV>
LOCATION:The Schaumburg Corporate Center
UID:e.9129.121
SEQUENCE:3
DTSTAMP:20260424T222351Z
URL:https://members.schaumburgbusiness.com/events/details/sales-institute-2009-program-4-12-11-2009-121
END:VEVENT

END:VCALENDAR
