BEGIN:VCALENDAR
VERSION:2.0
PRODID:-//ChamberMaster//Event Calendar 2.0//EN
METHOD:PUBLISH
X-PUBLISHED-TTL:P3D
REFRESH-INTERVAL:P3D
CALSCALE:GREGORIAN
BEGIN:VEVENT
DTSTART:20140221T170000Z
DTEND:20140221T170000Z
X-MICROSOFT-CDO-ALLDAYEVENT:FALSE
SUMMARY:Ribbon Cutting - Zeal Resturant
DESCRIPTION:Join the Schaumburg Business Association as we welcome Chef Vince's Zeal restaurant with a ribbon cutting.
X-ALT-DESC;FMTTYPE=text/html:Join the Schaumburg Business Association as we welcome Chef Vince&#39\;s&nbsp\;Zeal restaurant with a ribbon cutting.&nbsp\; &nbsp\;
LOCATION:680 Mall Drive Schaumburg\, IL
UID:e.9129.1622
SEQUENCE:3
DTSTAMP:20260419T235900Z
URL:https://members.schaumburgbusiness.com/events/details/ribbon-cutting-zeal-resturant-02-21-2014-1622
END:VEVENT

END:VCALENDAR
