BEGIN:VCALENDAR
VERSION:2.0
PRODID:-//ChamberMaster//Event Calendar 2.0//EN
METHOD:PUBLISH
X-PUBLISHED-TTL:P3D
REFRESH-INTERVAL:P3D
CALSCALE:GREGORIAN
BEGIN:VEVENT
DTSTART:20141028T210000Z
DTEND:20141028T220000Z
X-MICROSOFT-CDO-ALLDAYEVENT:FALSE
SUMMARY:Ribbon Cutting- Sharp Business Systems
DESCRIPTION:Join us as we help celebrate the opening of Sharp Business Systems new location!
X-ALT-DESC;FMTTYPE=text/html:Join us as we help celebrate the opening of Sharp Business Systems new location!
LOCATION:1815 S. Meyers Road Suite 100 Oakbrook Terrace\, IL 60181
UID:e.9129.1685
SEQUENCE:3
DTSTAMP:20260419T114001Z
URL:https://members.schaumburgbusiness.com/events/details/ribbon-cutting-sharp-business-systems-10-28-2014-1685
END:VEVENT

END:VCALENDAR
