BEGIN:VCALENDAR
VERSION:2.0
PRODID:-//ChamberMaster//Event Calendar 2.0//EN
METHOD:PUBLISH
X-PUBLISHED-TTL:P3D
REFRESH-INTERVAL:P3D
CALSCALE:GREGORIAN
BEGIN:VEVENT
DTSTART:20141016T210000Z
DTEND:20141016T220000Z
X-MICROSOFT-CDO-ALLDAYEVENT:FALSE
SUMMARY:Ribbon Cutting - Seattle Sutton's Healthy Eating of Schaumburg
DESCRIPTION:Join us for a Ribbon Cutting to welcome Seattle Sutton's Healthy Eating to the Schaumburg community! Seattle Sutton herself will be attending.
X-ALT-DESC;FMTTYPE=text/html:Join us for a Ribbon Cutting to welcome Seattle Sutton&#39\;s Healthy Eating to the Schaumburg community!&nbsp\;Seattle Sutton herself will be attending.
LOCATION:25 N. Roselle Road Schaumburg\, IL
UID:e.9129.1683
SEQUENCE:3
DTSTAMP:20260419T114543Z
URL:https://members.schaumburgbusiness.com/events/details/ribbon-cutting-seattle-sutton-s-healthy-eating-of-schaumburg-10-16-2014-1683
END:VEVENT

END:VCALENDAR
