BEGIN:VCALENDAR
VERSION:2.0
PRODID:-//ChamberMaster//Event Calendar 2.0//EN
METHOD:PUBLISH
X-PUBLISHED-TTL:P3D
REFRESH-INTERVAL:P3D
CALSCALE:GREGORIAN
BEGIN:VEVENT
DTSTART:20140822T140000Z
DTEND:20140822T150000Z
X-MICROSOFT-CDO-ALLDAYEVENT:FALSE
SUMMARY:Ribbon Cutting - Sam's Club # 8148
DESCRIPTION:Join fellow SBA members for a Grand Reopening at Sam's Club #8148 \n\n\n\nFreebies\, goodies and networking.  This is one not to miss!
X-ALT-DESC;FMTTYPE=text/html:Join fellow SBA members for a Grand Reopening at Sam&#39\;s Club #8148&nbsp\;<br />\n<br />\nFreebies\, goodies and networking. &nbsp\;This is one not to miss!&nbsp\;
LOCATION:900 S. Barrington Road Streamwood\, IL 60107
UID:e.9129.1654
SEQUENCE:3
DTSTAMP:20260419T143857Z
URL:https://members.schaumburgbusiness.com/events/details/ribbon-cutting-sam-s-club-8148-08-22-2014-1654
END:VEVENT

END:VCALENDAR
