BEGIN:VCALENDAR
VERSION:2.0
PRODID:-//ChamberMaster//Event Calendar 2.0//EN
METHOD:PUBLISH
X-PUBLISHED-TTL:P3D
REFRESH-INTERVAL:P3D
CALSCALE:GREGORIAN
BEGIN:VEVENT
DTSTART:20140826T220000Z
DTEND:20140826T220000Z
X-MICROSOFT-CDO-ALLDAYEVENT:FALSE
SUMMARY:Ribbon Cutting - Ricky B's Prime Burger House
DESCRIPTION:Join us as we welcome Rick B's Prime Burger House to Schaumburg!\n\n\n\n5:00 p.m. is the Ribbon Cutting followed by a Business After Hours till 7:00 p.m.
X-ALT-DESC;FMTTYPE=text/html:Join us as we welcome Rick B&#39\;s Prime Burger House to Schaumburg!<br />\n<br />\n5:00 p.m. is the Ribbon Cutting followed by a Business After Hours till 7:00 p.m.<br />\n<br />\n&nbsp\;
LOCATION:5 Woodfield Mall Between Lord & Taylor and Sears. Between the Improv Comedy Club and Cheesecake Factory. Entrance is off parking lot.
UID:e.9129.1655
SEQUENCE:3
DTSTAMP:20260419T161246Z
URL:https://members.schaumburgbusiness.com/events/details/ribbon-cutting-ricky-b-s-prime-burger-house-08-26-2014-1655
END:VEVENT

END:VCALENDAR
