BEGIN:VCALENDAR
VERSION:2.0
PRODID:-//ChamberMaster//Event Calendar 2.0//EN
METHOD:PUBLISH
X-PUBLISHED-TTL:P3D
REFRESH-INTERVAL:P3D
CALSCALE:GREGORIAN
BEGIN:VEVENT
DTSTART:20140220T163000Z
DTEND:20140220T170000Z
X-MICROSOFT-CDO-ALLDAYEVENT:FALSE
SUMMARY:Ribbon Cutting - Half Price Books
DESCRIPTION:Join the Schaumburg Business Association as we welcome Half Price Books to their current location.
X-ALT-DESC;FMTTYPE=text/html:Join the Schaumburg Business Association as we welcome Half Price Books to their current location.&nbsp\; 
LOCATION:1075 E. Golf Road Schaumburg\, IL
UID:e.9129.1621
SEQUENCE:3
DTSTAMP:20260419T235809Z
URL:https://members.schaumburgbusiness.com/events/details/ribbon-cutting-half-price-books-02-20-2014-1621
END:VEVENT

END:VCALENDAR
