BEGIN:VCALENDAR
VERSION:2.0
PRODID:-//ChamberMaster//Event Calendar 2.0//EN
METHOD:PUBLISH
X-PUBLISHED-TTL:P3D
REFRESH-INTERVAL:P3D
CALSCALE:GREGORIAN
BEGIN:VEVENT
DTSTART:20140930T190000Z
DTEND:20140930T200000Z
X-MICROSOFT-CDO-ALLDAYEVENT:FALSE
SUMMARY:Ribbon Cutting - Chastain & Associates
DESCRIPTION:Join us as we welcome Chastain & Associates to the Schaumburg community!\n\nChastain & Associates will be hosting an open house after the Ribbon Cutting.\n\n\n\nDetails to follow...
X-ALT-DESC;FMTTYPE=text/html:Join us as we welcome Chastain &amp\; Associates to the Schaumburg community!<br />\nChastain &amp\; Associates will be hosting an open house after the Ribbon Cutting.<br />\n<br />\nDetails to follow...
LOCATION:120 W. Center Ct. Schaumburg\, IL 60195
UID:e.9129.1664
SEQUENCE:3
DTSTAMP:20260419T130441Z
URL:https://members.schaumburgbusiness.com/events/details/ribbon-cutting-chastain-associates-09-30-2014-1664
END:VEVENT

END:VCALENDAR
