BEGIN:VCALENDAR
VERSION:2.0
PRODID:-//ChamberMaster//Event Calendar 2.0//EN
METHOD:PUBLISH
X-PUBLISHED-TTL:P3D
REFRESH-INTERVAL:P3D
CALSCALE:GREGORIAN
BEGIN:VEVENT
DTSTART:20140808T150000Z
DTEND:20140808T150000Z
X-MICROSOFT-CDO-ALLDAYEVENT:FALSE
SUMMARY:Ribbon Cutting - At Home
DESCRIPTION:Join us as we welcome At Home to their newest location in Schaumburg with a Ribbon Cutting.  \n\n\n\nAt Home offers a vast assortment of home d cor at unbeatable value.\n\n\n\nExpress your unique style throughout every room of your home\, whether you're traditional\, modern\, quirky or casual. Their wide selection of furniture\, rugs\, wall art\, home accents\, patio and so much more lets you decorate how you like without spending a fortune.\n\n\n\nWe can't wait to see you At Home on August 8 at 10a.m.
X-ALT-DESC;FMTTYPE=text/html:Join us as we welcome At Home to their newest location in Schaumburg with a Ribbon Cutting. &nbsp\;<br />\n<br />\nAt Home offers a vast assortment of home d&eacute\;cor at unbeatable value.<br />\n<br />\nExpress your unique style throughout every room of your home\, whether you&#39\;re traditional\, modern\, quirky or casual. Their wide selection of furniture\, rugs\, wall art\, home accents\, patio and so much more lets you decorate how you like without spending a fortune.<br />\n<br />\nWe can&#39\;t wait to see you At Home on August 8 at 10a.m.<br />\n&nbsp\;
LOCATION:1325 N. Meacham Road Schaumburg\, IL 60173
UID:e.9129.1653
SEQUENCE:3
DTSTAMP:20260419T143530Z
URL:https://members.schaumburgbusiness.com/events/details/ribbon-cutting-at-home-08-08-2014-1653
END:VEVENT

END:VCALENDAR
