BEGIN:VCALENDAR
VERSION:2.0
PRODID:-//ChamberMaster//Event Calendar 2.0//EN
METHOD:PUBLISH
X-PUBLISHED-TTL:P3D
REFRESH-INTERVAL:P3D
CALSCALE:GREGORIAN
BEGIN:VEVENT
DTSTART:20140527T140000Z
DTEND:20140528T023000Z
X-MICROSOFT-CDO-ALLDAYEVENT:FALSE
SUMMARY:Ribbon Cutting
DESCRIPTION:Join Craig Culver as he unveil's his newly remodeled Culver's at 1800 Wise Road\, Schaumburg\, IL 60193
X-ALT-DESC;FMTTYPE=text/html:Join Craig Culver as he unveil&#39\;s his newly remodeled Culver&#39\;s at&nbsp\;<span style="color: rgb(84\, 84\, 84)\; font-family: arial\, sans-serif\; font-size: small\; line-height: 20.22222328186035px\;">1800 Wise Road\, Schaumburg\, IL 60193&nbsp\;</span>
LOCATION:1800 Wise Road Schaumburg\, IL 60193
UID:e.9129.1639
SEQUENCE:3
DTSTAMP:20260419T203326Z
URL:https://members.schaumburgbusiness.com/events/details/ribbon-cutting-05-27-2014-1639
END:VEVENT

END:VCALENDAR
