BEGIN:VCALENDAR
VERSION:2.0
PRODID:-//ChamberMaster//Event Calendar 2.0//EN
METHOD:PUBLISH
X-PUBLISHED-TTL:P3D
REFRESH-INTERVAL:P3D
CALSCALE:GREGORIAN
BEGIN:VEVENT
DTSTART:20140502T190000Z
DTEND:20140502T193000Z
X-MICROSOFT-CDO-ALLDAYEVENT:FALSE
SUMMARY:Ribbon Cutting
DESCRIPTION:Join us for a Ribbon Cutting to welcome Castle Chiropractic to Schaumburg!
X-ALT-DESC;FMTTYPE=text/html:Join us for a Ribbon Cutting to welcome Castle Chiropractic to Schaumburg! &nbsp\;
LOCATION:Castle Chiropractic 269 S. Roselle Rd. Schaumburg\, IL 60193
UID:e.9129.1634
SEQUENCE:3
DTSTAMP:20260419T190653Z
URL:https://members.schaumburgbusiness.com/events/details/ribbon-cutting-05-02-2014-1634
END:VEVENT

END:VCALENDAR
