BEGIN:VCALENDAR
VERSION:2.0
PRODID:-//ChamberMaster//Event Calendar 2.0//EN
METHOD:PUBLISH
X-PUBLISHED-TTL:P3D
REFRESH-INTERVAL:P3D
CALSCALE:GREGORIAN
BEGIN:VEVENT
DTSTART:20110607T200000Z
DTEND:20110607T223000Z
X-MICROSOFT-CDO-ALLDAYEVENT:FALSE
SUMMARY:Regus Grand Re-Opening Celebration
DESCRIPTION:Schaumburg Business Association MembersAre Invited to AttendA Grand Re-Opening Celebrationfor Regus(SBA Diamond Level Founding Memberformerly known as HQ Global Workplaces) Tuesday\, June 73:00 – 5:30 PMAt 1600 Golf Road\, Suite 1200 Tour their completely remodeled center.Register to win a $250 gift card! RSVP to Jimmy at 847-981-8400
X-ALT-DESC;FMTTYPE=text/html:<DIV style='FONT-FAMILY: Arial'><P style='TEXT-ALIGN: center\; MARGIN: 0in 0in 6pt' class=MsoNormal align=center><B style='mso-bidi-font-weight: normal'><I style='mso-bidi-font-style: normal'><SPAN style='FONT-FAMILY: 'Arial'\,'sans-serif'\; COLOR: #002060\; FONT-SIZE: 12pt\; mso-bidi-font-size: 11.0pt'>Schaumburg Business Association Members<xml:namespace prefix = o ns = 'urn:schemas-microsoft-com:office:office' /><o:p></o:p></SPAN></I></B></P><P style='TEXT-ALIGN: center\; MARGIN: 0in 0in 6pt' class=MsoNormal align=center><B style='mso-bidi-font-weight: normal'><I style='mso-bidi-font-style: normal'><SPAN style='FONT-FAMILY: 'Arial'\,'sans-serif'\; COLOR: #002060\; FONT-SIZE: 12pt\; mso-bidi-font-size: 11.0pt'>Are Invited to Attend<o:p></o:p></SPAN></I></B></P><P style='TEXT-ALIGN: center\; MARGIN: 0in 0in 6pt' class=MsoNormal align=center><SPAN style='FONT-FAMILY: 'Arial'\,'sans-serif'\; COLOR: #002060\; FONT-SIZE: 12pt\; mso-bidi-font-size: 11.0pt'>A Grand Re-Opening Celebration<o:p></o:p></SPAN></P><P style='TEXT-ALIGN: center\; MARGIN: 0in 0in 6pt' class=MsoNormal align=center><SPAN style='FONT-FAMILY: 'Arial'\,'sans-serif'\; COLOR: #002060\; FONT-SIZE: 12pt\; mso-bidi-font-size: 11.0pt'>for Regus</SPAN></P><SPAN style='FONT-FAMILY: 'Arial'\,'sans-serif'\; COLOR: #002060\; FONT-SIZE: 12pt\; mso-bidi-font-size: 11.0pt'><P style='TEXT-ALIGN: center\; MARGIN: 0in 0in 6pt' class=MsoNormal align=center><SPAN style='FONT-FAMILY: 'Arial'\,'sans-serif'\; COLOR: #002060\; FONT-SIZE: 12pt\; mso-bidi-font-size: 11.0pt'>(<I style='mso-bidi-font-style: normal'>SBA Diamond Level Founding Member</I></SPAN></P><P style='TEXT-ALIGN: center\; MARGIN: 0in 0in 6pt' class=MsoNormal align=center><SPAN style='FONT-FAMILY: 'Arial'\,'sans-serif'\; COLOR: #002060\; FONT-SIZE: 12pt\; mso-bidi-font-size: 11.0pt'><I style='mso-bidi-font-style: normal'>formerly known as HQ Global Workplaces</I>)<o:p></o:p></SPAN></P><o:p></o:p></SPAN><P style='TEXT-ALIGN: center\; MARGIN: 0in 0in 6pt' class=MsoNormal align=center><SPAN style='FONT-FAMILY: 'Arial'\,'sans-serif'\; COLOR: #002060\; FONT-SIZE: 12pt\; mso-bidi-font-size: 11.0pt'><o:p>&nbsp\;</o:p></SPAN></P><P style='TEXT-ALIGN: center\; MARGIN: 0in 0in 6pt' class=MsoNormal align=center><SPAN style='FONT-FAMILY: 'Arial'\,'sans-serif'\; COLOR: #002060\; FONT-SIZE: 12pt\; mso-bidi-font-size: 11.0pt'>Tuesday\, June 7<o:p></o:p></SPAN></P><P style='TEXT-ALIGN: center\; MARGIN: 0in 0in 6pt' class=MsoNormal align=center><SPAN style='FONT-FAMILY: 'Arial'\,'sans-serif'\; COLOR: #002060\; FONT-SIZE: 12pt\; mso-bidi-font-size: 11.0pt'>3:00 – 5:30 PM<o:p></o:p></SPAN></P><P style='TEXT-ALIGN: center\; MARGIN: 0in 0in 6pt' class=MsoNormal align=center><SPAN style='FONT-FAMILY: 'Arial'\,'sans-serif'\; COLOR: #002060\; FONT-SIZE: 12pt\; mso-bidi-font-size: 11.0pt'>At 1600 Golf Road\, Suite 1200<o:p></o:p></SPAN></P><P style='TEXT-ALIGN: center\; MARGIN: 0in 0in 6pt' class=MsoNormal align=center><SPAN style='FONT-FAMILY: 'Arial'\,'sans-serif'\; COLOR: #002060\; FONT-SIZE: 12pt\; mso-bidi-font-size: 11.0pt'><o:p>&nbsp\;</o:p></SPAN></P><P style='TEXT-ALIGN: center\; MARGIN: 0in 0in 6pt' class=MsoNormal align=center><SPAN style='FONT-FAMILY: 'Arial'\,'sans-serif'\; COLOR: #002060\; FONT-SIZE: 12pt\; mso-bidi-font-size: 11.0pt'>Tour their completely remodeled center.<o:p></o:p></SPAN></P><P style='TEXT-ALIGN: center\; MARGIN: 0in 0in 6pt' class=MsoNormal align=center><SPAN style='FONT-FAMILY: 'Arial'\,'sans-serif'\; COLOR: #002060\; FONT-SIZE: 12pt\; mso-bidi-font-size: 11.0pt'>Register to win a $250 gift card!<o:p></o:p></SPAN></P><P style='TEXT-ALIGN: center\; MARGIN: 0in 0in 6pt' class=MsoNormal align=center><SPAN style='FONT-FAMILY: 'Arial'\,'sans-serif'\; COLOR: #002060\; FONT-SIZE: 12pt\; mso-bidi-font-size: 11.0pt'><o:p>&nbsp\;</o:p></SPAN></P><P style='TEXT-ALIGN: center\; MARGIN: 0in 0in 0pt' class=MsoNormal align=center><SPAN style='FONT-FAMILY: 'Arial'\,'sans-serif'\; COLOR: #002060\; FONT-SIZE: 12pt\; mso-bidi-font-size: 11.0pt'>RSVP to Jimmy at 847-981-8400<o:p></o:p></SPAN></P></DIV>
LOCATION:Regus
UID:e.9129.285
SEQUENCE:3
DTSTAMP:20260423T225319Z
URL:https://members.schaumburgbusiness.com/events/details/regus-grand-re-opening-celebration-06-07-2011-285
END:VEVENT

END:VCALENDAR
