BEGIN:VCALENDAR
VERSION:2.0
PRODID:-//ChamberMaster//Event Calendar 2.0//EN
METHOD:PUBLISH
X-PUBLISHED-TTL:P3D
REFRESH-INTERVAL:P3D
CALSCALE:GREGORIAN
BEGIN:VEVENT
DTSTART;VALUE=DATE:20100107
DTEND;VALUE=DATE:20100108
TRANSP:TRANSPARENT
X-MICROSOFT-CDO-ALLDAYEVENT:TRUE
SUMMARY:Presidential Search
DESCRIPTION:APPLICATION PROCESS The SBA’s Search Committee encourages qualified candidates to promptly submit an application packet.  An application packet should be comprised of a resume\, a letter requesting Committee consideration of the qualifications and attributes that make you an excellent candidate for the position\, and a list of five professional references knowledge able about your qualities and achievements. Included in the reference list should be e-mail addresses and daytime telephone numbers of each person listed.To view the position profile\, copy and paste the address below:http://www.schaumburgbusiness.com/sbaweb/files/sba-profile-of-president.pdf Completed application packets should be sent via e-mail to: resumes@schaumburgbusiness.com.All information submitted will be treated with strict confidentiality by the Search Committee.
X-ALT-DESC;FMTTYPE=text/html:<P class=MsoNormal style='mso-line-height-alt: 12.05pt' align=center><SPAN style='FONT-SIZE: 18pt\; COLOR: black\; FONT-FAMILY: 'Helvetica 45 Light'\,'sans-serif''>APPLICATION PROCESS<xml:namespace prefix = o ns = 'urn:schemas-microsoft-com:office:office' /><o:p></o:p></SPAN></P><P class=MsoNormal style='LINE-HEIGHT: 12.05pt' align=center><SPAN style='FONT-SIZE: 9pt\; COLOR: black\; FONT-FAMILY: 'Helvetica 45 Light'\,'sans-serif''><o:p>&nbsp\;</o:p></SPAN><SPAN style='FONT-SIZE: 9pt\; COLOR: black\; FONT-FAMILY: 'Verdana'\,'sans-serif''>The SBA’s Search Committee encourages qualified candidates to promptly submit an application packet.&nbsp\; An application packet should be comprised of a resume\, a letter requesting Committee consideration of the qualifications and attributes that make you an excellent candidate for the position\, and a list of five professional references knowledge&shy\;able about your qualities and achievements. Included in the reference list should be e-mail addresses and daytime telephone numbers of each person listed.<o:p></o:p></SPAN></P><SPAN style='FONT-SIZE: 9pt\; COLOR: black\; FONT-FAMILY: 'Verdana'\,'sans-serif''><o:p><P class=MsoNormal style='LINE-HEIGHT: 12.05pt' align=center><SPAN style='FONT-SIZE: 9pt\; COLOR: black\; FONT-FAMILY: 'Verdana'\,'sans-serif''><o:p><FONT face=Calibri color=#1f497d size=3>To view the position profile\, copy and paste the address below:</FONT></o:p></SPAN></P><P class=MsoNormal style='LINE-HEIGHT: 12.05pt' align=center><SPAN style='FONT-SIZE: 9pt\; COLOR: black\; FONT-FAMILY: 'Verdana'\,'sans-serif''><o:p><FONT face=Calibri color=#1f497d size=3><A href='http://www.schaumburgbusiness.com/sbaweb/files/sba-profile-of-president.pdf'>http://www.schaumburgbusiness.com/sbaweb/files/sba-profile-of-president.pdf</A></FONT></o:p></SPAN>&nbsp\;</o:p></SPAN></P><P class=MsoNormal style='LINE-HEIGHT: 12.05pt' align=center><SPAN style='FONT-SIZE: 9pt\; COLOR: black\; FONT-FAMILY: 'Verdana'\,'sans-serif''><o:p></o:p></SPAN><SPAN style='FONT-SIZE: 9pt\; COLOR: black\; FONT-FAMILY: 'Verdana'\,'sans-serif''>Completed application packets should be sent via e-mail to: </SPAN><SPAN style='FONT-SIZE: 11pt\; COLOR: #1f497d\; FONT-FAMILY: 'Calibri'\,'sans-serif''><A title=blocked::mailto:resumes@schaumburgbusiness.com href='mailto:resumes@schaumburgbusiness.com' target=_blank>resumes@schaumburgbusiness.com</A>.</SPAN><SPAN style='FONT-SIZE: 9pt\; COLOR: black\; FONT-FAMILY: 'Verdana'\,'sans-serif''><o:p></o:p></SPAN></P><P class=MsoNormal style='LINE-HEIGHT: 12.05pt' align=center><SPAN style='FONT-SIZE: 9pt\; COLOR: black\; FONT-FAMILY: 'Verdana'\,'sans-serif''>All information submitted will be treated with strict confidentiality by the Search Committee.</SPAN></P><P class=MsoNormal style='LINE-HEIGHT: 12.05pt' align=center><SPAN style='FONT-SIZE: 9pt\; COLOR: black\; FONT-FAMILY: 'Verdana'\,'sans-serif''></SPAN>&nbsp\;</P><P class=MsoNormal style='LINE-HEIGHT: 12.05pt' align=center><SPAN style='FONT-SIZE: 9pt\; COLOR: black\; FONT-FAMILY: 'Verdana'\,'sans-serif''><o:p><FONT face=Calibri color=#1f497d size=3></FONT></o:p></SPAN>&nbsp\;</P>
LOCATION:
UID:e.9129.204
SEQUENCE:3
DTSTAMP:20260424T210421Z
URL:https://members.schaumburgbusiness.com/events/details/presidential-search-01-07-2010-204
END:VEVENT

END:VCALENDAR
