BEGIN:VCALENDAR
VERSION:2.0
PRODID:-//ChamberMaster//Event Calendar 2.0//EN
METHOD:PUBLISH
X-PUBLISHED-TTL:P3D
REFRESH-INTERVAL:P3D
CALSCALE:GREGORIAN
BEGIN:VEVENT
DTSTART:20131022T160000Z
DTEND:20131022T170000Z
X-MICROSOFT-CDO-ALLDAYEVENT:FALSE
SUMMARY:Panchero's Ribbon Cutting
DESCRIPTION:Welcome Panchero's Mexican Grill with a Ribbon Cutting on Tuesday\, October 22 at 11:00a.m.
X-ALT-DESC;FMTTYPE=text/html:Welcome Panchero&#39\;s Mexican Grill with a Ribbon Cutting on Tuesday\, October 22 at 11:00a.m.&nbsp\;<br />\n<br />\n
LOCATION:140 East Golf Road Schaumburg\, IL 60173
UID:e.9129.885
SEQUENCE:3
DTSTAMP:20260420T064129Z
URL:https://members.schaumburgbusiness.com/events/details/panchero-s-ribbon-cutting-10-22-2013-885
END:VEVENT

END:VCALENDAR
