BEGIN:VCALENDAR
VERSION:2.0
PRODID:-//ChamberMaster//Event Calendar 2.0//EN
METHOD:PUBLISH
X-PUBLISHED-TTL:P3D
REFRESH-INTERVAL:P3D
CALSCALE:GREGORIAN
BEGIN:VEVENT
DTSTART:20131118T164500Z
DTEND:20131118T164500Z
X-MICROSOFT-CDO-ALLDAYEVENT:FALSE
SUMMARY:On the Border Ribbon cutting
DESCRIPTION:870 N Meacham Road\n\nSChaumburg\, IL 60173
X-ALT-DESC;FMTTYPE=text/html:<span style="color: rgb(68\, 68\, 68)\; font-family: arial\, sans-serif\; font-size: small\; line-height: 16px\;">&nbsp\;870 N Meacham Road<br />\nSChaumburg\, IL 60173</span>
LOCATION:
UID:e.9129.906
SEQUENCE:3
DTSTAMP:20260420T050746Z
URL:https://members.schaumburgbusiness.com/events/details/on-the-border-ribbon-cutting-11-18-2013-906
END:VEVENT

END:VCALENDAR
