BEGIN:VCALENDAR
VERSION:2.0
PRODID:-//ChamberMaster//Event Calendar 2.0//EN
METHOD:PUBLISH
X-PUBLISHED-TTL:P3D
REFRESH-INTERVAL:P3D
CALSCALE:GREGORIAN
BEGIN:VEVENT
DTSTART:20100909T050000Z
DTEND:20100909T050000Z
X-MICROSOFT-CDO-ALLDAYEVENT:FALSE
SUMMARY:New Member Orientation Sept 2010 INVITEES
DESCRIPTION:New Member Orientation Sept 2010 INVITEES
X-ALT-DESC;FMTTYPE=text/html:New Member Orientation Sept 2010 INVITEES
LOCATION:
UID:e.9129.773
SEQUENCE:3
DTSTAMP:20260424T111916Z
URL:https://members.schaumburgbusiness.com/events/details/new-member-orientation-sept-2010-invitees-09-09-2010-773
END:VEVENT

END:VCALENDAR
