BEGIN:VCALENDAR
VERSION:2.0
PRODID:-//ChamberMaster//Event Calendar 2.0//EN
METHOD:PUBLISH
X-PUBLISHED-TTL:P3D
REFRESH-INTERVAL:P3D
CALSCALE:GREGORIAN
BEGIN:VEVENT
DTSTART:20090305T140000Z
DTEND:20090305T153000Z
X-MICROSOFT-CDO-ALLDAYEVENT:FALSE
SUMMARY:New Member Orientation March 09
DESCRIPTION:
X-ALT-DESC;FMTTYPE=text/html:
LOCATION:Schaumburg Corporate Center
UID:e.9129.144
SEQUENCE:3
DTSTAMP:20260425T112953Z
URL:https://members.schaumburgbusiness.com/events/details/new-member-orientation-march-09-03-05-2009-144
END:VEVENT

END:VCALENDAR
