BEGIN:VCALENDAR
VERSION:2.0
PRODID:-//ChamberMaster//Event Calendar 2.0//EN
METHOD:PUBLISH
X-PUBLISHED-TTL:P3D
REFRESH-INTERVAL:P3D
CALSCALE:GREGORIAN
BEGIN:VEVENT
DTSTART:20100604T130000Z
DTEND:20100604T143000Z
X-MICROSOFT-CDO-ALLDAYEVENT:FALSE
SUMMARY:New Member Orientation - June 2010
DESCRIPTION:
X-ALT-DESC;FMTTYPE=text/html:
LOCATION:Schaumburg Corporate Center
UID:e.9129.219
SEQUENCE:3
DTSTAMP:20260424T140418Z
URL:https://members.schaumburgbusiness.com/events/details/new-member-orientation-june-2010-06-04-2010-219
END:VEVENT

END:VCALENDAR
