BEGIN:VCALENDAR
VERSION:2.0
PRODID:-//ChamberMaster//Event Calendar 2.0//EN
METHOD:PUBLISH
X-PUBLISHED-TTL:P3D
REFRESH-INTERVAL:P3D
CALSCALE:GREGORIAN
BEGIN:VEVENT
DTSTART:20090828T130000Z
DTEND:20090828T143000Z
X-MICROSOFT-CDO-ALLDAYEVENT:FALSE
SUMMARY:New Member Orientation August 09
DESCRIPTION:
X-ALT-DESC;FMTTYPE=text/html:
LOCATION:Schaumburg Corporate Center
UID:e.9129.162
SEQUENCE:3
DTSTAMP:20260425T041058Z
URL:https://members.schaumburgbusiness.com/events/details/new-member-orientation-august-09-08-28-2009-162
END:VEVENT

END:VCALENDAR
