BEGIN:VCALENDAR
VERSION:2.0
PRODID:-//ChamberMaster//Event Calendar 2.0//EN
METHOD:PUBLISH
X-PUBLISHED-TTL:P3D
REFRESH-INTERVAL:P3D
CALSCALE:GREGORIAN
BEGIN:VEVENT
DTSTART:20130927T130000Z
DTEND:20130927T143000Z
X-MICROSOFT-CDO-ALLDAYEVENT:FALSE
SUMMARY:New Member Orientation
DESCRIPTION:At this special event\, you will:  Hear about programs\, events\, committees & networking groups  Learn how to make the most of your membership  Meet other new members\, volunteer leaders & staff  Discover member benefits & how to get involved  Free to attend & continental breakfast will be provided RSVP
X-ALT-DESC;FMTTYPE=text/html:<P align=center><STRONG><U><FONT color=#1f1f1f></FONT></U></STRONG>&nbsp\;<P align=center><FONT color=#1f1f1f><STRONG><U>At this special event\, you will:</U></STRONG> </FONT></P><P align=center><FONT color=#1f1f1f></FONT>&nbsp\;</P><P align=center><FONT color=#1f1f1f>Hear about programs\, events\, </FONT></P><P align=center><FONT color=#1f1f1f>committees &amp\; networking groups </FONT></P><P align=center><FONT color=#1f1f1f></FONT>&nbsp\;</P><P align=center><FONT color=#1f1f1f>Learn how to make the most of your membership </FONT></P><P align=center><FONT color=#1f1f1f></FONT>&nbsp\;</P><P align=center><FONT color=#1f1f1f>Meet other new members\, volunteer leaders &amp\; staff </FONT></P><P align=center><FONT color=#1f1f1f></FONT>&nbsp\;</P><P align=center><FONT color=#1f1f1f>Discover member benefits &amp\; how to get involved </FONT></P><P align=center><EM><FONT color=#1f1f1f></FONT></EM>&nbsp\;</P><P align=center><FONT color=#1f1f1f><EM>Free to attend &amp\; continental breakfast will be provided</EM> </FONT></P><P align=center><FONT color=#1f1f1f><STRONG>RSVP</STRONG> </FONT></P>
LOCATION:Schaumburg Corporate Center
UID:e.9129.407
SEQUENCE:3
DTSTAMP:20260420T082716Z
URL:https://members.schaumburgbusiness.com/events/details/new-member-orientation-09-27-2013-407
END:VEVENT

END:VCALENDAR
