BEGIN:VCALENDAR
VERSION:2.0
PRODID:-//ChamberMaster//Event Calendar 2.0//EN
METHOD:PUBLISH
X-PUBLISHED-TTL:P3D
REFRESH-INTERVAL:P3D
CALSCALE:GREGORIAN
BEGIN:VEVENT
DTSTART:20140410T210000Z
DTEND:20140411T000000Z
X-MICROSOFT-CDO-ALLDAYEVENT:FALSE
SUMMARY:Multi Chamber EXPO
DESCRIPTION:REGIONAL BUSINESS EXPO\n\n\n\nJOIN THE NORTHERN  ILLINOIS  CHAMBERS  PREMIER\n\n\n\nBUSINESS  TO  BUSINESS  NETWORKING  EVENT
X-ALT-DESC;FMTTYPE=text/html:REGIONAL BUSINESS EXPO<br />\n<br />\nJOIN THE NORTHERN&nbsp\; ILLINOIS&nbsp\; CHAMBERS&nbsp\; PREMIER<br />\n<br />\nBUSINESS&nbsp\; TO&nbsp\; BUSINESS&nbsp\; NETWORKING&nbsp\; EVENT
LOCATION:SEARS CENTRE ARENA 5333 PRAIRIE STONE PKWY\, HOFFMAN ESTATES
UID:e.9129.1623
SEQUENCE:3
DTSTAMP:20260419T222056Z
URL:https://members.schaumburgbusiness.com/events/details/multi-chamber-expo-04-10-2014-1623
END:VEVENT

END:VCALENDAR
