BEGIN:VCALENDAR
VERSION:2.0
PRODID:-//ChamberMaster//Event Calendar 2.0//EN
METHOD:PUBLISH
X-PUBLISHED-TTL:P3D
REFRESH-INTERVAL:P3D
CALSCALE:GREGORIAN
BEGIN:VEVENT
DTSTART:20130911T220000Z
DTEND:20130912T000000Z
X-MICROSOFT-CDO-ALLDAYEVENT:FALSE
SUMMARY:Multi-Chamber End of Summer Networking at DRINK
DESCRIPTION:Multi-Chamber End of Summer Networking Event at Drink's Gorgeous Outdoor Patio!\nWednesday\, September 11\n5:00 - 7:00 PM\nDRINK871 E. Algonquin Road\n\nCost: $10 for SBA Members before event\; $20 for Non-Members and at the door (Price includes one drink ticket and appetizers)\n\n\n\n\nSponsoring Chambers of the Chamber Biz Alliance: Arlington Heights\, Barrington Area\, Buffalo Grove Area\, Des Plaines\, Greater Lincolnshire\, Hanover Park\, Hoffman Estates\, Mount Prospect\, Palatine Area\, Rolling Meadows\, Wheeling/Prospect Heights Area and Schaumburg Business Association.
X-ALT-DESC;FMTTYPE=text/html:<DIV style='FONT-FAMILY: Arial'><P class=MsoNormal style='MARGIN: 0in 0in 0pt'><STRONG><SPAN style='FONT-FAMILY: 'Calibri'\,'sans-serif'\; mso-ascii-theme-font: minor-latin\; mso-hansi-theme-font: minor-latin\; mso-bidi-font-family: Arial'>Multi-Chamber End of Summer Networking Event at Drink's Gorgeous Outdoor Patio!</SPAN></STRONG><SPAN style='mso-ascii-theme-font: minor-latin\; mso-hansi-theme-font: minor-latin\; mso-ascii-font-family: Calibri\; mso-hansi-font-family: Calibri'><BR></SPAN><STRONG><SPAN style='FONT-FAMILY: 'Calibri'\,'sans-serif'\; mso-ascii-theme-font: minor-latin\; mso-hansi-theme-font: minor-latin\; mso-bidi-font-family: Arial'>Wednesday\,&nbsp\;September 11</SPAN></STRONG><SPAN style='mso-ascii-theme-font: minor-latin\; mso-hansi-theme-font: minor-latin\; mso-ascii-font-family: Calibri\; mso-hansi-font-family: Calibri'><BR></SPAN><STRONG><SPAN style='FONT-FAMILY: 'Calibri'\,'sans-serif'\; mso-ascii-theme-font: minor-latin\; mso-hansi-theme-font: minor-latin\; mso-bidi-font-family: Arial'>5:00 - 7:00 PM</SPAN></STRONG><SPAN style='mso-ascii-theme-font: minor-latin\; mso-hansi-theme-font: minor-latin\; mso-ascii-font-family: Calibri\; mso-hansi-font-family: Calibri'><BR></SPAN><STRONG><SPAN style='FONT-FAMILY: 'Calibri'\,'sans-serif'\; mso-ascii-theme-font: minor-latin\; mso-hansi-theme-font: minor-latin\; mso-bidi-font-family: Arial'>DRINK<xml:namespace prefix = 'o' ns = 'urn:schemas-microsoft-com:office:office' /><o:p></o:p></SPAN></STRONG></P><P class=MsoNormal style='MARGIN: 0in 0in 0pt'><STRONG><SPAN style='FONT-FAMILY: 'Calibri'\,'sans-serif'\; mso-ascii-theme-font: minor-latin\; mso-hansi-theme-font: minor-latin\; mso-bidi-font-family: Arial'>871 E. Algonquin Road</SPAN></STRONG><SPAN style='mso-ascii-theme-font: minor-latin\; mso-hansi-theme-font: minor-latin\; mso-ascii-font-family: Calibri\; mso-hansi-font-family: Calibri'><BR><BR></SPAN><STRONG><SPAN style='FONT-FAMILY: 'Calibri'\,'sans-serif'\; mso-ascii-theme-font: minor-latin\; mso-hansi-theme-font: minor-latin\; mso-bidi-font-family: Arial'>Cost</SPAN></STRONG><SPAN style='mso-ascii-theme-font: minor-latin\; mso-hansi-theme-font: minor-latin\; mso-ascii-font-family: Calibri\; mso-hansi-font-family: Calibri'><FONT face=Calibri>: $10 for SBA Members before event\; $20 for Non-Members and at the door (Price includes one drink ticket and appetizers)<BR><BR><BR><BR><BR>Sponsoring Chambers of the Chamber Biz Alliance: Arlington Heights\, Barrington Area\, Buffalo Grove Area\, Des Plaines\, Greater Lincolnshire\, Hanover Park\, Hoffman Estates\, Mount Prospect\, Palatine Area\, Rolling Meadows\, Wheeling/Prospect Heights Area and Schaumburg Business Association.<o:p></o:p></FONT></SPAN></P></DIV>
LOCATION:DRINK
UID:e.9129.427
SEQUENCE:3
DTSTAMP:20260420T082845Z
URL:https://members.schaumburgbusiness.com/events/details/multi-chamber-end-of-summer-networking-at-drink-09-11-2013-427
END:VEVENT

END:VCALENDAR
