BEGIN:VCALENDAR
VERSION:2.0
PRODID:-//ChamberMaster//Event Calendar 2.0//EN
METHOD:PUBLISH
X-PUBLISHED-TTL:P3D
REFRESH-INTERVAL:P3D
CALSCALE:GREGORIAN
BEGIN:VEVENT
DTSTART:20140623T133000Z
DTEND:20140623T153000Z
X-MICROSOFT-CDO-ALLDAYEVENT:FALSE
SUMMARY:Member Appreciation Grab n' Go Breakfast
DESCRIPTION:We love our members! The Schaumburg Business Association would like to say thank you to our members for their continued support and involvement by hosting a complimentary breakfast tasting! \n\n\n\nKIND Healthy Snacks will provide yogurt parfaits and a variety of KIND granola to pair it with.\n\nCanteen Coffee and Vending will have a spread of their "always fresh\, always on" hot and cold beverages to wash it down.\n\n\n\nStop in\, say hello\, and grab some breakfast to go!
X-ALT-DESC;FMTTYPE=text/html:We love our members! The Schaumburg Business Association would like to say thank you to our members for their continued support and involvement by hosting a complimentary breakfast tasting!&nbsp\;<br />\n<br />\nKIND Healthy Snacks will provide yogurt parfaits and a variety of KIND granola to pair it with.<br />\nCanteen Coffee and Vending will have a spread of their &quot\;always fresh\, always on&quot\; hot and cold beverages to wash it down.<br />\n<br />\nStop in\, say hello\, and grab some breakfast to go!&nbsp\;
LOCATION:Schaumburg Business Association 1501 E. Woodfield Road\, Suite 115N Schaumburg\, IL 60173
UID:e.9129.1647
SEQUENCE:3
DTSTAMP:20260419T174704Z
URL:https://members.schaumburgbusiness.com/events/details/member-appreciation-grab-n-go-breakfast-06-23-2014-1647
END:VEVENT

END:VCALENDAR
