BEGIN:VCALENDAR
VERSION:2.0
PRODID:-//ChamberMaster//Event Calendar 2.0//EN
METHOD:PUBLISH
X-PUBLISHED-TTL:P3D
REFRESH-INTERVAL:P3D
CALSCALE:GREGORIAN
BEGIN:VEVENT
DTSTART:20120914T003000Z
DTEND:20120914T020000Z
X-MICROSOFT-CDO-ALLDAYEVENT:FALSE
SUMMARY:Legislative Affairs - Illinois' Rep. & Sen. Candidates Forum
DESCRIPTION:You’re invited! All members of the Schaumburg Business Association are encouraged to get involved with our Legislative Affairs Committee.  State Representative & Senator Candidates Forum\non Thursday\, September 13th\nat\nPrairie Center for the Arts201 Schaumburg CourtSchaumburg7:30PM – 9:00PM CANDIDATES:IL Representative:56th Dist.:         Michelle Mussman          John Lawson44th Dist.:         Fred Crespo                    Ramiro Juarez                                                                                                                                                               IL Senator:22nd Dist.:        Michael Noland               Cary Collins28th Dist.:         Dan Kotowski                  Jim O’Donnell\n\nCome to see each Candidate speak on issues at hand and address previously submitted questions. Register TODAY!!www.schaumburgbusiness.com or call us at 847.413.1010We hope to see you there!!
X-ALT-DESC;FMTTYPE=text/html:<P style='TEXT-ALIGN: center\; LINE-HEIGHT: normal\; MARGIN: 0in 0in 0pt\; FONT-FAMILY: Arial' class=MsoNormal align=center><SPAN style='FONT-FAMILY: 'Times New Roman'\,'serif'\; FONT-SIZE: 12pt\; mso-fareast-font-family: 'Times New Roman''><SPAN style='FONT-FAMILY: 'Times New Roman'\,'serif'\; FONT-SIZE: 12pt\; mso-fareast-font-family: Calibri\; mso-fareast-theme-font: minor-latin\; mso-ansi-language: EN-US\; mso-fareast-language: EN-US\; mso-bidi-language: AR-SA'></SPAN></SPAN></P><SPAN style='FONT-FAMILY: 'Times New Roman'\,'serif'\; FONT-SIZE: 12pt\; mso-fareast-font-family: 'Times New Roman''><SPAN style='FONT-FAMILY: 'Times New Roman'\,'serif'\; FONT-SIZE: 12pt\; mso-fareast-font-family: Calibri\; mso-fareast-theme-font: minor-latin\; mso-ansi-language: EN-US\; mso-fareast-language: EN-US\; mso-bidi-language: AR-SA'><FONT size=5><FONT size=3><SPAN style='FONT-FAMILY: 'Arial'\,'sans-serif''><P style='FONT-FAMILY: Arial' align=left></P><P style='FONT-FAMILY: Arial'></P><P style='FONT-FAMILY: Arial' align=center><B><FONT size=7><FONT color=#000080>You’re invited!</FONT></P></FONT><P style='FONT-FAMILY: Arial' align=center>&nbsp\;</P><P style='FONT-FAMILY: Arial' align=center><FONT color=#0080ff size=5>All members of the Schaumburg Business Association are encouraged to get involved with our Legislative Affairs Committee</FONT></B><FONT color=#0080ff size=5>. </FONT></P><P style='FONT-FAMILY: Arial' align=center><FONT size=3><FONT size=3><FONT color=#000080><SPAN><STRONG><FONT color=#000000></FONT></STRONG></SPAN></FONT></FONT></FONT>&nbsp\;</P><P style='FONT-FAMILY: Arial' align=center><FONT size=3><FONT size=3><FONT color=#000080><SPAN><STRONG><FONT color=#000000>State Representative &amp\; Senator Candidates Forum</FONT><BR><FONT color=#000000>on Thursday\, September 13th</FONT></STRONG></SPAN><I><SPAN style='FONT-FAMILY: 'HelveticaNeueLT Std Ext'\,'sans-serif'\; FONT-SIZE: 18pt\; mso-bidi-font-family: Arial'><BR style='mso-special-character: line-break'></SPAN></I><I><STRONG><SPAN style='FONT-FAMILY: 'HelveticaNeueLT Std Ext'\,'sans-serif'\; FONT-SIZE: 18pt\; mso-bidi-font-family: Arial'><FONT color=#000000></FONT></SPAN></STRONG></I></FONT></FONT></FONT></P><P style='FONT-FAMILY: Arial' align=center><FONT size=3><FONT size=3><FONT color=#000080><I><STRONG><SPAN style='FONT-FAMILY: 'HelveticaNeueLT Std Ext'\,'sans-serif'\; FONT-SIZE: 18pt\; mso-bidi-font-family: Arial'><FONT color=#000000>at</FONT></SPAN></STRONG></I></FONT></FONT></FONT></P><P style='FONT-FAMILY: Arial' align=center><FONT size=3><FONT size=3><FONT color=#000080><I><STRONG><SPAN style='FONT-FAMILY: 'HelveticaNeueLT Std Ext'\,'sans-serif'\; FONT-SIZE: 18pt\; mso-bidi-font-family: Arial'><FONT color=#000000><BR></FONT></SPAN><SPAN style='FONT-FAMILY: 'HelveticaNeueLT Std Ext'\,'sans-serif'\; COLOR: red\; FONT-SIZE: 14pt\; mso-bidi-font-family: Arial'>Prairie Center for the Arts<xml:namespace prefix = o ns = 'urn:schemas-microsoft-com:office:office' /><o:p></o:p></SPAN></STRONG></I></P><P style='TEXT-ALIGN: center\; LINE-HEIGHT: normal\; MARGIN: 0in 0in 0pt' class=MsoNormal align=center><I><SPAN style='FONT-FAMILY: 'HelveticaNeueLT Std Ext'\,'sans-serif'\; COLOR: red\; FONT-SIZE: 14pt\; mso-bidi-font-family: Arial'><STRONG>201 Schaumburg Court<o:p></o:p></STRONG></SPAN></I></P><P style='TEXT-ALIGN: center\; LINE-HEIGHT: normal\; MARGIN: 0in 0in 0pt' class=MsoNormal align=center><I><SPAN style='FONT-FAMILY: 'HelveticaNeueLT Std Ext'\,'sans-serif'\; COLOR: red\; FONT-SIZE: 14pt\; mso-bidi-font-family: Arial'><STRONG>Schaumburg<o:p></o:p></STRONG></SPAN></I></P><P style='TEXT-ALIGN: center\; LINE-HEIGHT: normal\; MARGIN: 0in 0in 0pt' class=MsoNormal align=center><I><SPAN style='FONT-FAMILY: 'HelveticaNeueLT Std Ext'\,'sans-serif'\; COLOR: red\; FONT-SIZE: 14pt\; mso-bidi-font-family: Arial'><STRONG>7:30PM – 9:00PM<o:p></o:p></STRONG></SPAN></I></P><P style='TEXT-ALIGN: center\; LINE-HEIGHT: normal\; MARGIN: 0in 0in 12pt' class=MsoNormal align=center><I><SPAN style='FONT-FAMILY: 'HelveticaNeueLT Std Ext'\,'sans-serif'\; COLOR: red\; FONT-SIZE: 24pt\; mso-bidi-font-family: Arial\; mso-bidi-font-size: 11.0pt'><o:p><STRONG>&nbsp\;</STRONG></o:p></SPAN></I></P><P style='TEXT-ALIGN: center\; LINE-HEIGHT: normal\; MARGIN: 0in 0in 12pt' class=MsoNormal align=center><U><SPAN style='FONT-FAMILY: 'HelveticaNeueLT Std Ext'\,'sans-serif'\; FONT-SIZE: 14pt\; mso-bidi-font-family: Arial'><FONT color=#000000><STRONG>CANDIDATES:<o:p></o:p></STRONG></FONT></SPAN></U></P><P style='TEXT-ALIGN: center\; LINE-HEIGHT: normal\; MARGIN: 0in 0in 12pt' class=MsoNormal align=center><I style='mso-bidi-font-style: normal'><SPAN style='FONT-FAMILY: 'HelveticaNeueLT Std Ext'\,'sans-serif'\; FONT-SIZE: 13.5pt\; mso-bidi-font-family: Arial\; mso-bidi-font-size: 11.0pt'><FONT color=#000000><STRONG>IL Representative:<o:p></o:p></STRONG></FONT></SPAN></I></P><P style='LINE-HEIGHT: normal\; TEXT-INDENT: 0.5in\; MARGIN: 0in 0in 12pt' class=MsoNormal align=center><SPAN style='FONT-FAMILY: 'HelveticaNeueLT Std Ext'\,'sans-serif'\; FONT-SIZE: 13.5pt\; mso-bidi-font-family: Arial\; mso-bidi-font-size: 11.0pt'><FONT color=#000000><STRONG>56<SUP>th</SUP> Dist.: <SPAN style='mso-tab-count: 1'>&nbsp\;&nbsp\;&nbsp\;&nbsp\;&nbsp\;&nbsp\;&nbsp\; </SPAN>Michelle Mussman<SPAN style='mso-tab-count: 2'>&nbsp\;&nbsp\;&nbsp\;&nbsp\;&nbsp\;&nbsp\;&nbsp\;&nbsp\;&nbsp\; </SPAN>John Lawson<o:p></o:p></STRONG></FONT></SPAN></P><P style='LINE-HEIGHT: normal\; TEXT-INDENT: 0.5in\; MARGIN: 0in 0in 12pt' class=MsoNormal align=center><SPAN style='FONT-FAMILY: 'HelveticaNeueLT Std Ext'\,'sans-serif'\; FONT-SIZE: 13.5pt\; mso-bidi-font-family: Arial\; mso-bidi-font-size: 11.0pt'><FONT color=#000000><STRONG>44<SUP>th</SUP> Dist.:<SPAN style='mso-tab-count: 2'>&nbsp\;&nbsp\;&nbsp\;&nbsp\;&nbsp\;&nbsp\;&nbsp\;&nbsp\; </SPAN>Fred Crespo<SPAN style='mso-tab-count: 3'>&nbsp\;&nbsp\;&nbsp\;&nbsp\;&nbsp\;&nbsp\;&nbsp\;&nbsp\;&nbsp\;&nbsp\;&nbsp\;&nbsp\;&nbsp\;&nbsp\;&nbsp\;&nbsp\;&nbsp\;&nbsp\;&nbsp\; </SPAN>Ramiro Juarez<o:p></o:p></STRONG></FONT></SPAN></P><P style='LINE-HEIGHT: normal\; TEXT-INDENT: 0.5in\; MARGIN: 0in 0in 12pt' class=MsoNormal><SPAN style='FONT-FAMILY: 'HelveticaNeueLT Std Ext'\,'sans-serif'\; FONT-SIZE: 13.5pt\; mso-bidi-font-family: Arial\; mso-bidi-font-size: 11.0pt'><o:p><FONT color=#000000><STRONG>&nbsp\;&nbsp\;&nbsp\;&nbsp\;&nbsp\;&nbsp\;&nbsp\;&nbsp\;&nbsp\;&nbsp\;&nbsp\;&nbsp\;&nbsp\;&nbsp\;&nbsp\;&nbsp\;&nbsp\;&nbsp\;&nbsp\;&nbsp\;&nbsp\;&nbsp\;&nbsp\;&nbsp\;&nbsp\;&nbsp\;&nbsp\;&nbsp\;&nbsp\;&nbsp\;&nbsp\;&nbsp\;&nbsp\;&nbsp\;&nbsp\;&nbsp\;&nbsp\;&nbsp\;&nbsp\;&nbsp\;&nbsp\;&nbsp\;&nbsp\;&nbsp\;&nbsp\;&nbsp\;&nbsp\;&nbsp\;&nbsp\;&nbsp\;&nbsp\;&nbsp\;&nbsp\;&nbsp\;&nbsp\;&nbsp\;&nbsp\;&nbsp\;&nbsp\;&nbsp\;&nbsp\;&nbsp\;&nbsp\;&nbsp\;&nbsp\;&nbsp\;&nbsp\;&nbsp\;&nbsp\;&nbsp\;&nbsp\;&nbsp\;&nbsp\;&nbsp\; </STRONG></FONT></o:p></SPAN></P><P style='LINE-HEIGHT: normal\; TEXT-INDENT: 0.5in\; MARGIN: 0in 0in 12pt' class=MsoNormal><STRONG><FONT color=#000000><SPAN style='FONT-FAMILY: 'HelveticaNeueLT Std Ext'\,'sans-serif'\; FONT-SIZE: 13.5pt\; mso-bidi-font-family: Arial\; mso-bidi-font-size: 11.0pt'><o:p>&nbsp\;&nbsp\;&nbsp\;&nbsp\;&nbsp\;&nbsp\;&nbsp\;&nbsp\;&nbsp\;&nbsp\;&nbsp\;&nbsp\;&nbsp\;&nbsp\;&nbsp\;&nbsp\;&nbsp\;&nbsp\;&nbsp\;&nbsp\;&nbsp\;&nbsp\;&nbsp\;&nbsp\;&nbsp\;&nbsp\;&nbsp\;&nbsp\;&nbsp\;&nbsp\;&nbsp\;&nbsp\;&nbsp\;&nbsp\;&nbsp\;&nbsp\;&nbsp\;&nbsp\;&nbsp\;&nbsp\;&nbsp\;&nbsp\;&nbsp\;&nbsp\;&nbsp\;&nbsp\;&nbsp\;&nbsp\;&nbsp\;&nbsp\;&nbsp\;&nbsp\;&nbsp\;&nbsp\;&nbsp\;&nbsp\;&nbsp\;&nbsp\;&nbsp\;&nbsp\;&nbsp\;&nbsp\;&nbsp\;&nbsp\;&nbsp\;&nbsp\;&nbsp\;&nbsp\;&nbsp\;&nbsp\;&nbsp\;&nbsp\;&nbsp\;&nbsp\;&nbsp\;&nbsp\;&nbsp\;&nbsp\;&nbsp\;&nbsp\;&nbsp\;&nbsp\;&nbsp\; </o:p></SPAN><I style='mso-bidi-font-style: normal'><SPAN style='FONT-FAMILY: 'HelveticaNeueLT Std Ext'\,'sans-serif'\; FONT-SIZE: 13.5pt\; mso-bidi-font-family: Arial\; mso-bidi-font-size: 11.0pt'>IL Senator:</SPAN></I></FONT></STRONG></P><P style='LINE-HEIGHT: normal\; TEXT-INDENT: 0.5in\; MARGIN: 0in 0in 12pt' class=MsoNormal align=center><STRONG><FONT color=#000000><I style='mso-bidi-font-style: normal'><SPAN style='FONT-FAMILY: 'HelveticaNeueLT Std Ext'\,'sans-serif'\; FONT-SIZE: 13.5pt\; mso-bidi-font-family: Arial\; mso-bidi-font-size: 11.0pt'></SPAN></I></FONT></STRONG><SPAN style='FONT-FAMILY: 'HelveticaNeueLT Std Ext'\,'sans-serif'\; FONT-SIZE: 13.5pt\; mso-bidi-font-family: Arial\; mso-bidi-font-size: 11.0pt'><FONT color=#000000><STRONG>22<SUP>nd</SUP> Dist.:<SPAN style='mso-tab-count: 1'>&nbsp\;&nbsp\;&nbsp\;&nbsp\;&nbsp\;&nbsp\;&nbsp\; </SPAN>Michael Noland<SPAN style='mso-tab-count: 2'>&nbsp\;&nbsp\;&nbsp\;&nbsp\;&nbsp\;&nbsp\;&nbsp\;&nbsp\;&nbsp\;&nbsp\;&nbsp\;&nbsp\;&nbsp\;&nbsp\; </SPAN>Cary Collins<o:p></o:p></STRONG></FONT></SPAN></P><P style='LINE-HEIGHT: normal\; TEXT-INDENT: 0.5in\; MARGIN: 0in 0in 12pt' class=MsoNormal align=center><SPAN style='FONT-FAMILY: 'HelveticaNeueLT Std Ext'\,'sans-serif'\; FONT-SIZE: 13.5pt\; mso-bidi-font-family: Arial\; mso-bidi-font-size: 11.0pt'><FONT color=#000000><STRONG>28<SUP>th</SUP> Dist.:<SPAN style='mso-tab-count: 2'>&nbsp\;&nbsp\;&nbsp\;&nbsp\;&nbsp\;&nbsp\;&nbsp\;&nbsp\; </SPAN>Dan Kotowski<SPAN style='mso-tab-count: 3'>&nbsp\;&nbsp\;&nbsp\;&nbsp\;&nbsp\;&nbsp\;&nbsp\;&nbsp\;&nbsp\;&nbsp\;&nbsp\;&nbsp\;&nbsp\;&nbsp\;&nbsp\;&nbsp\;&nbsp\; </SPAN>Jim O’Donnell<o:p></o:p></STRONG></FONT></SPAN></P><SPAN><P style='TEXT-ALIGN: center\; LINE-HEIGHT: normal\; TEXT-INDENT: 0.5in\; MARGIN: 0in 0in 12pt' class=MsoNormal align=center><BR><BR></SPAN><I><SPAN style='FONT-FAMILY: 'HelveticaNeueLT Std Ext'\,'sans-serif'\; FONT-SIZE: 13.5pt\; mso-bidi-font-family: Arial\; mso-bidi-font-size: 11.0pt'><FONT color=#000000>Come to see each Candidate speak on issues at hand and address previously submitted questions.<o:p></o:p></FONT></SPAN></I></P><P style='TEXT-ALIGN: center\; LINE-HEIGHT: normal\; TEXT-INDENT: 0.5in\; MARGIN: 0in 0in 12pt' class=MsoNormal align=center><I><SPAN style='FONT-FAMILY: 'HelveticaNeueLT Std Ext'\,'sans-serif'\; FONT-SIZE: 13.5pt\; mso-bidi-font-family: Arial\; mso-bidi-font-size: 11.0pt'><o:p><FONT color=#000000>&nbsp\;</FONT></o:p></SPAN></I></P><P style='TEXT-ALIGN: center\; LINE-HEIGHT: normal\; TEXT-INDENT: 0.5in\; MARGIN: 0in 0in 12pt' class=MsoNormal align=center><I><SPAN style='FONT-FAMILY: 'HelveticaNeueLT Std Ext'\,'sans-serif'\; FONT-SIZE: 13.5pt\; mso-bidi-font-family: Arial\; mso-bidi-font-size: 11.0pt'><FONT color=#000000>Register TODAY!!<o:p></o:p></FONT></SPAN></I></P><P style='TEXT-ALIGN: center\; LINE-HEIGHT: normal\; TEXT-INDENT: 0.5in\; MARGIN: 0in 0in 12pt' class=MsoNormal align=center><A href='http://www.schaumburgbusiness.com'><I><SPAN style='FONT-FAMILY: 'HelveticaNeueLT Std Ext'\,'sans-serif'\; FONT-SIZE: 13.5pt\; mso-bidi-font-family: Arial\; mso-bidi-font-size: 11.0pt'><FONT color=#0000ff>www.schaumburgbusiness.com</FONT></SPAN></I></A><I><SPAN style='FONT-FAMILY: 'HelveticaNeueLT Std Ext'\,'sans-serif'\; FONT-SIZE: 13.5pt\; mso-bidi-font-family: Arial\; mso-bidi-font-size: 11.0pt'><FONT color=#000000> or call us at 847.413.1010</FONT></SPAN></I><SPAN style='FONT-FAMILY: 'HelveticaNeueLT Std Ext'\,'sans-serif'\; FONT-SIZE: 10pt\; mso-bidi-font-family: Arial'><o:p></o:p></SPAN></P><P align=center></FONT><STRONG><FONT color=#000080></FONT></STRONG></P><P align=center><FONT color=#000080 size=5><STRONG>We hope to see you there!!</STRONG></FONT></P><P align=center><STRONG><FONT color=#000080></FONT></STRONG>&nbsp\;</P><P align=center><FONT color=#000080><FONT size=4>&nbsp\;</P></FONT></FONT></FONT></FONT></SPAN></FONT></FONT></SPAN></SPAN>
LOCATION:Prairie Center for the Arts
UID:e.9129.334
SEQUENCE:3
DTSTAMP:20260423T004128Z
URL:https://members.schaumburgbusiness.com/events/details/legislative-affairs-illinois-rep-sen-candidates-forum-09-13-2012-334
END:VEVENT

END:VCALENDAR
