BEGIN:VCALENDAR
VERSION:2.0
PRODID:-//ChamberMaster//Event Calendar 2.0//EN
METHOD:PUBLISH
X-PUBLISHED-TTL:P3D
REFRESH-INTERVAL:P3D
CALSCALE:GREGORIAN
BEGIN:VEVENT
DTSTART:20141028T163000Z
DTEND:20141028T180000Z
X-MICROSOFT-CDO-ALLDAYEVENT:FALSE
SUMMARY:Legislative Affairs Forum
DESCRIPTION:This Legislative Affairs Forum will feature a panel discussion regarding the Medical Marijuana Reform in Illinois.\n\n\n\nPanelists\n\nSilvia Orizaba\, Director of Consulting & Community Outreach for the Medical Marijuana Institute\n\n\n\nMatthew Norton\, Medical Marijuana Specialist Attorney Partner with Holland & Knight\n\n\n\nLunch will be provided.
X-ALT-DESC;FMTTYPE=text/html:This Legislative Affairs Forum will feature a panel discussion regarding the Medical Marijuana Reform in Illinois.<br />\n<br />\n<u>Panelists</u><br />\n<strong>Silvia Orizaba</strong>\, Director of Consulting &amp\; Community Outreach for the Medical Marijuana Institute<br />\n<br />\n<strong>Matthew Norton</strong>\, Medical Marijuana Specialist Attorney Partner with Holland &amp\; Knight<br />\n<br />\nLunch will be provided.
LOCATION:Chandler's Chophouse 401 N. Roselle Road Schaumburg\, IL 60194
UID:e.9129.1682
SEQUENCE:3
DTSTAMP:20260419T114100Z
URL:https://members.schaumburgbusiness.com/events/details/legislative-affairs-forum-10-28-2014-1682
END:VEVENT

END:VCALENDAR
