BEGIN:VCALENDAR
VERSION:2.0
PRODID:-//ChamberMaster//Event Calendar 2.0//EN
METHOD:PUBLISH
X-PUBLISHED-TTL:P3D
REFRESH-INTERVAL:P3D
CALSCALE:GREGORIAN
BEGIN:VEVENT
DTSTART;VALUE=DATE:20070913
DTEND;VALUE=DATE:20080514
TRANSP:TRANSPARENT
X-MICROSOFT-CDO-ALLDAYEVENT:TRUE
SUMMARY:Leadership Institute 2007
DESCRIPTION:
X-ALT-DESC;FMTTYPE=text/html:
LOCATION:Roosevelt University - Schaumburg
UID:e.9129.32
SEQUENCE:3
DTSTAMP:20260426T031104Z
URL:https://members.schaumburgbusiness.com/events/details/leadership-institute-2007-09-13-2007-32
END:VEVENT

END:VCALENDAR
