BEGIN:VCALENDAR
VERSION:2.0
PRODID:-//ChamberMaster//Event Calendar 2.0//EN
METHOD:PUBLISH
X-PUBLISHED-TTL:P3D
REFRESH-INTERVAL:P3D
CALSCALE:GREGORIAN
BEGIN:VEVENT
DTSTART:20140603T210000Z
DTEND:20140604T000000Z
X-MICROSOFT-CDO-ALLDAYEVENT:FALSE
SUMMARY:Ladies Golf clinic
DESCRIPTION:Exclusively for those ladies signed up to play at the Ladies Golf Outing on June 10.  It's not too late to sign up for both these events.  Details on the Ladies Golf Outing can be found here.  \n\n\n\nComplimentary wine\, cheese and instruction by the pros at the PGA Tour Superstore.
X-ALT-DESC;FMTTYPE=text/html:Exclusively for those ladies signed up to play at the Ladies Golf Outing on June 10. &nbsp\;It&#39\;s not too late to sign up for both these events. &nbsp\;Details on the Ladies Golf Outing can be <a href="members.schaumburgbusiness.com/events/details/ladies-golf-outing-1570">found here</a>. &nbsp\;<br />\n<br />\nComplimentary wine\, cheese and instruction by the pros at the PGA Tour Superstore.&nbsp\;
LOCATION:PGA Tour Superstore 1319 E Golf Rd Schaumburg\, IL 60173
UID:e.9129.1646
SEQUENCE:3
DTSTAMP:20260419T174657Z
URL:https://members.schaumburgbusiness.com/events/details/ladies-golf-clinic-06-03-2014-1646
END:VEVENT

END:VCALENDAR
