BEGIN:VCALENDAR
VERSION:2.0
PRODID:-//ChamberMaster//Event Calendar 2.0//EN
METHOD:PUBLISH
X-PUBLISHED-TTL:P3D
REFRESH-INTERVAL:P3D
CALSCALE:GREGORIAN
BEGIN:VEVENT
DTSTART:20110607T200000Z
DTEND:20110607T223000Z
X-MICROSOFT-CDO-ALLDAYEVENT:FALSE
SUMMARY:Join us for a celebratory Grand Re-Opening at Regus
DESCRIPTION:SBA Members: You are invited to a celebratory Grand Re-Opening! Please register for free either online or call our office at 847.413.1010
X-ALT-DESC;FMTTYPE=text/html:<DIV style='FONT-FAMILY: Arial'><P style='TEXT-ALIGN: center\; LINE-HEIGHT: normal\; MARGIN: 0in 0in 0pt' class=MsoNormal align=center><SPAN style='FONT-FAMILY: 'Times New Roman'\,'serif'\; FONT-SIZE: 12pt\; mso-fareast-font-family: 'Times New Roman''><FONT color=#0000a0 face=Arial>SBA Members:&nbsp\;You are invited to a celebratory Grand Re-Opening!</FONT></SPAN></P><P style='TEXT-ALIGN: center\; LINE-HEIGHT: normal\; MARGIN: 0in 0in 0pt' class=MsoNormal align=center><SPAN style='FONT-FAMILY: 'Times New Roman'\,'serif'\; FONT-SIZE: 12pt\; mso-fareast-font-family: 'Times New Roman''></SPAN>&nbsp\;</P><SPAN style='FONT-FAMILY: 'Times New Roman'\,'serif'\; FONT-SIZE: 12pt\; mso-fareast-font-family: 'Times New Roman''><xml:namespace prefix = o ns = 'urn:schemas-microsoft-com:office:office' /><o:p><P align=center><SPAN><EM><FONT face=Arial>Please register for free either online or call our office at 847.413.1010</FONT></EM></SPAN></o:p></SPAN></P></DIV>
LOCATION:Regus
UID:e.9129.284
SEQUENCE:3
DTSTAMP:20260423T225452Z
URL:https://members.schaumburgbusiness.com/events/details/join-us-for-a-celebratory-grand-re-opening-at-regus-06-07-2011-284
END:VEVENT

END:VCALENDAR
