BEGIN:VCALENDAR
VERSION:2.0
PRODID:-//ChamberMaster//Event Calendar 2.0//EN
METHOD:PUBLISH
X-PUBLISHED-TTL:P3D
REFRESH-INTERVAL:P3D
CALSCALE:GREGORIAN
BEGIN:VEVENT
DTSTART:20110228T230000Z
DTEND:20110301T010000Z
X-MICROSOFT-CDO-ALLDAYEVENT:FALSE
SUMMARY:Join State Representative Fred Crespo for an Economic Development Conference
DESCRIPTION:Sponsored by the Schaumburg Business Association\, Schaumburg Center for Economic Development\, and the Hoffman Estates Chamber of Commerce Join State Representative Fred Crespo for an Economic Development Conference  Featuring presentations from Central Management Services and the Department of Commerce and Economic Opportunity (DCEO) Monday\, February 28\, 20115:00 - 7:00 PM    Rep. Fred Crespo is bringing together the local business community and state organizations to promote economic development within the northwest suburbs. The conference will focus on state and local resources available for current and prospective small business owners and operators.  This event is FREE to attend and is open to the public. Anyone interested in small business development is encouraged to attend.   Questions or to Register:\nContact Rep. Fred Crespo's constituent service office at 630.372.3340\nfred@fredcrespo.com
X-ALT-DESC;FMTTYPE=text/html:<DIV style='FONT-FAMILY: Arial'><P style='TEXT-ALIGN: center\; LINE-HEIGHT: normal\; MARGIN: 0in 0in 0pt' class=MsoNormal align=center><I style='mso-bidi-font-style: normal'><SPAN style='FONT-FAMILY: 'Arial'\,'sans-serif'\; FONT-SIZE: 14pt\; mso-fareast-font-family: 'Times New Roman''>Sponsored by the Schaumburg Business Association\, Schaumburg Center for Economic Development\, and the Hoffman Estates Chamber of Commerce</SPAN></I></P><P style='TEXT-ALIGN: center\; LINE-HEIGHT: normal\; MARGIN: 0in 0in 0pt' class=MsoNormal align=center><I style='mso-bidi-font-style: normal'><SPAN style='FONT-FAMILY: 'Arial'\,'sans-serif'\; FONT-SIZE: 14pt\; mso-fareast-font-family: 'Times New Roman''></SPAN></I>&nbsp\;</P><P style='TEXT-ALIGN: center\; LINE-HEIGHT: normal\; MARGIN: 0in 0in 0pt' class=MsoNormal align=center><B style='mso-bidi-font-weight: normal'><SPAN style='FONT-FAMILY: 'Arial'\,'sans-serif'\; COLOR: #002060\; FONT-SIZE: 14pt\; mso-fareast-font-family: 'Times New Roman''>Join State Representative Fred Crespo for an Economic Development Conference&nbsp\;<xml:namespace prefix = o ns = 'urn:schemas-microsoft-com:office:office' /><o:p></o:p></SPAN></B></P><P style='TEXT-ALIGN: center\; LINE-HEIGHT: normal\; MARGIN: 0in 0in 0pt' class=MsoNormal align=center><B style='mso-bidi-font-weight: normal'><SPAN style='FONT-FAMILY: 'Arial'\,'sans-serif'\; COLOR: #002060\; FONT-SIZE: 14pt\; mso-fareast-font-family: 'Times New Roman''><o:p>&nbsp\;</o:p></SPAN></B></P><P style='TEXT-ALIGN: center\; LINE-HEIGHT: normal\; MARGIN: 0in 0in 0pt' class=MsoNormal align=center><B style='mso-bidi-font-weight: normal'><SPAN style='FONT-FAMILY: 'Arial'\,'sans-serif'\; COLOR: #002060\; FONT-SIZE: 12pt\; mso-fareast-font-family: 'Times New Roman''>Featuring presentations from Central Management Services and the Department of Commerce and Economic Opportunity (DCEO)</SPAN></B></P><P style='TEXT-ALIGN: center\; LINE-HEIGHT: normal\; MARGIN: 0in 0in 0pt' class=MsoNormal align=center><B style='mso-bidi-font-weight: normal'><SPAN style='FONT-FAMILY: 'Arial'\,'sans-serif'\; COLOR: #002060\; FONT-SIZE: 12pt\; mso-fareast-font-family: 'Times New Roman''></SPAN></B>&nbsp\;</P><P style='TEXT-ALIGN: center\; LINE-HEIGHT: normal\; MARGIN: 0in 0in 0pt' class=MsoNormal align=center><B style='mso-bidi-font-weight: normal'><SPAN style='FONT-FAMILY: 'Arial'\,'sans-serif'\; COLOR: #002060\; FONT-SIZE: 14pt\; mso-fareast-font-family: 'Times New Roman''>Monday\, February 28\, 2011<o:p></o:p></SPAN></B></P><P style='TEXT-ALIGN: center\; LINE-HEIGHT: normal\; MARGIN: 0in 0in 0pt' class=MsoNormal align=center><B style='mso-bidi-font-weight: normal'><SPAN style='FONT-FAMILY: 'Arial'\,'sans-serif'\; COLOR: #002060\; FONT-SIZE: 14pt\; mso-fareast-font-family: 'Times New Roman''>5:00 - 7:00 PM <o:p></o:p></SPAN></B></P><P style='TEXT-ALIGN: center\; LINE-HEIGHT: normal\; MARGIN: 0in 0in 0pt' class=MsoNormal align=center><SPAN style='FONT-FAMILY: 'Arial'\,'sans-serif'\; mso-fareast-font-family: 'Times New Roman''><o:p>&nbsp\;</o:p></SPAN></P><P style='TEXT-ALIGN: center\; LINE-HEIGHT: normal\; MARGIN: 0in 0in 0pt' class=MsoNormal align=center><SPAN style='FONT-FAMILY: 'Arial'\,'sans-serif'\; mso-fareast-font-family: 'Times New Roman''><o:p>&nbsp\;</o:p></SPAN></P><P style='TEXT-ALIGN: center\; LINE-HEIGHT: normal\; MARGIN: 0in 0in 0pt' class=MsoNormal align=center><SPAN style='FONT-FAMILY: 'Arial'\,'sans-serif'\; FONT-SIZE: 12pt\; mso-fareast-font-family: 'Times New Roman''><o:p>&nbsp\;</o:p></SPAN></P><P style='TEXT-ALIGN: center\; LINE-HEIGHT: normal\; MARGIN: 0in 0in 6pt' class=MsoNormal align=center><B style='mso-bidi-font-weight: normal'><SPAN style='FONT-FAMILY: 'Arial'\,'sans-serif'\; FONT-SIZE: 12pt\; mso-fareast-font-family: 'Times New Roman''>Rep. Fred Crespo is bringing together the local business community and state organizations to promote economic development within the northwest suburbs. The conference will focus on state and local resources available for current and prospective small business owners and operators. </SPAN></B></P><P style='TEXT-ALIGN: center\; LINE-HEIGHT: normal\; MARGIN: 0in 0in 0pt' class=MsoNormal align=center><SPAN style='FONT-FAMILY: 'Arial'\,'sans-serif'\; FONT-SIZE: 12pt\; mso-fareast-font-family: 'Times New Roman''><o:p>&nbsp\;</o:p></SPAN></P><P style='TEXT-ALIGN: center\; LINE-HEIGHT: normal\; MARGIN: 0in 0in 0pt' class=MsoNormal align=center><B style='mso-bidi-font-weight: normal'><I style='mso-bidi-font-style: normal'><SPAN style='FONT-FAMILY: 'Arial'\,'sans-serif'\; FONT-SIZE: 12pt\; mso-fareast-font-family: 'Times New Roman''>This event is FREE to attend and is open to the public. </SPAN></I></B></P><P style='TEXT-ALIGN: center\; LINE-HEIGHT: normal\; MARGIN: 0in 0in 0pt' class=MsoNormal align=center><B style='mso-bidi-font-weight: normal'><I style='mso-bidi-font-style: normal'><SPAN style='FONT-FAMILY: 'Arial'\,'sans-serif'\; FONT-SIZE: 12pt\; mso-fareast-font-family: 'Times New Roman''>Anyone interested in small business development is encouraged to attend. </SPAN></I></B></P><P style='TEXT-ALIGN: center\; LINE-HEIGHT: normal\; MARGIN: 0in 0in 0pt' class=MsoNormal align=center><SPAN style='FONT-FAMILY: 'Arial'\,'sans-serif'\; FONT-SIZE: 12pt\; mso-fareast-font-family: 'Times New Roman''><o:p><FONT color=#0000ff>&nbsp\;</FONT></o:p></SPAN></P><P style='TEXT-ALIGN: center\; LINE-HEIGHT: normal\; MARGIN: 0in 0in 0pt' class=MsoNormal align=center><B><SPAN style='FONT-FAMILY: 'Arial'\,'sans-serif'\; FONT-SIZE: 12pt\; mso-fareast-font-family: 'Times New Roman''><o:p>&nbsp\;</o:p></SPAN></B></P><P style='TEXT-ALIGN: center\; LINE-HEIGHT: normal\; MARGIN: 0in 0in 0pt' class=MsoNormal align=center><B><SPAN style='FONT-FAMILY: 'Arial'\,'sans-serif'\; FONT-SIZE: 12pt\; mso-fareast-font-family: 'Times New Roman''>Questions or to Register:<BR></SPAN></B><SPAN style='FONT-FAMILY: 'Arial'\,'sans-serif'\; FONT-SIZE: 12pt\; mso-fareast-font-family: 'Times New Roman''>Contact Rep. Fred Crespo's constituent service office at 630.372.3340<BR><A href='mailto:fred@fredcrespo.com'><SPAN style='COLOR: blue'>fred@fredcrespo.com</SPAN></A></SPAN></P><P style='TEXT-ALIGN: center\; LINE-HEIGHT: normal\; MARGIN: 0in 0in 0pt' class=MsoNormal align=center><SPAN style='FONT-FAMILY: 'Times New Roman'\,'serif'\; FONT-SIZE: 12pt\; mso-fareast-font-family: 'Times New Roman''>&nbsp\;<o:p></o:p></SPAN></P><P style='TEXT-ALIGN: center\; LINE-HEIGHT: normal\; MARGIN: 0in 0in 0pt' class=MsoNormal align=center><SPAN style='FONT-FAMILY: 'Times New Roman'\,'serif'\; FONT-SIZE: 12pt\; mso-fareast-font-family: 'Times New Roman''><o:p></o:p></SPAN></P></DIV>
LOCATION:Harper College Wojcik Conference Center
UID:e.9129.273
SEQUENCE:3
DTSTAMP:20260424T034809Z
URL:https://members.schaumburgbusiness.com/events/details/join-state-representative-fred-crespo-for-an-economic-development-conference-02-28-2011-273
END:VEVENT

END:VCALENDAR
