BEGIN:VCALENDAR
VERSION:2.0
PRODID:-//ChamberMaster//Event Calendar 2.0//EN
METHOD:PUBLISH
X-PUBLISHED-TTL:P3D
REFRESH-INTERVAL:P3D
CALSCALE:GREGORIAN
BEGIN:VEVENT
DTSTART:20110104T134500Z
DTEND:20110104T150000Z
X-MICROSOFT-CDO-ALLDAYEVENT:FALSE
SUMMARY:Illinois workNet Presents Understanding Labor & Employment Law
DESCRIPTION:Schaumburg Business Association membersare invited to network and learn about resourcesfor growing and protecting your business Understanding Labor & Employment Law  Presented by llinois workNet Centers of Northern Cook County Tuesday\, January 4\, 20117:45 - 9:00 AM   SpeakerChuck KrugelProminent Human Resources Attorneypracticing labor law on behalf of management Topics will Include:Employment Policies and Handbooks: To use or not to useEmployment Agreements:  To use or not to useThe cost of employment disputes This event is FREE to attend. CLICK HERE TO REGISTER Questions\nMohammed Faheem\nBusiness Employer Services and Community Relations Manager\nIllinois workNet Centers of Northern Cook County\n847.437.9425\nmfaheem@worknetncc.com  CLICK HERE TO REGISTER
X-ALT-DESC;FMTTYPE=text/html:<DIV style='FONT-FAMILY: Arial'><P style='TEXT-ALIGN: center\; LINE-HEIGHT: normal\; MARGIN: 0in 0in 0pt' class=MsoNormal align=center><I style='mso-bidi-font-style: normal'><SPAN style='FONT-FAMILY: 'Arial'\,'sans-serif'\; FONT-SIZE: 14pt\; mso-fareast-font-family: 'Times New Roman''>Schaumburg Business Association members<xml:namespace prefix = o ns = 'urn:schemas-microsoft-com:office:office' /><o:p></o:p></SPAN></I></P><P style='TEXT-ALIGN: center\; LINE-HEIGHT: normal\; MARGIN: 0in 0in 0pt' class=MsoNormal align=center><I style='mso-bidi-font-style: normal'><SPAN style='FONT-FAMILY: 'Arial'\,'sans-serif'\; FONT-SIZE: 14pt\; mso-fareast-font-family: 'Times New Roman''>are invited to network and learn about resources<o:p></o:p></SPAN></I></P><P style='TEXT-ALIGN: center\; LINE-HEIGHT: normal\; MARGIN: 0in 0in 0pt' class=MsoNormal align=center><I style='mso-bidi-font-style: normal'><SPAN style='FONT-FAMILY: 'Arial'\,'sans-serif'\; FONT-SIZE: 14pt\; mso-fareast-font-family: 'Times New Roman''>for growing and protecting your business</SPAN></I><I style='mso-bidi-font-style: normal'><SPAN style='FONT-FAMILY: 'Arial'\,'sans-serif'\; mso-fareast-font-family: 'Times New Roman''><o:p></o:p></SPAN></I></P><P style='TEXT-ALIGN: center\; LINE-HEIGHT: normal\; MARGIN: 0in 0in 0pt' class=MsoNormal align=center><B style='mso-bidi-font-weight: normal'><SPAN style='FONT-FAMILY: 'Arial'\,'sans-serif'\; FONT-SIZE: 14pt\; mso-fareast-font-family: 'Times New Roman''><o:p>&nbsp\;</o:p></SPAN></B></P><P style='TEXT-ALIGN: center\; LINE-HEIGHT: normal\; MARGIN: 0in 0in 0pt' class=MsoNormal align=center><B style='mso-bidi-font-weight: normal'><SPAN style='FONT-FAMILY: 'Arial'\,'sans-serif'\; COLOR: #002060\; FONT-SIZE: 14pt\; mso-fareast-font-family: 'Times New Roman''>Understanding Labor &amp\; Employment Law <o:p></o:p></SPAN></B></P><P style='TEXT-ALIGN: center\; LINE-HEIGHT: normal\; MARGIN: 0in 0in 0pt' class=MsoNormal align=center><B style='mso-bidi-font-weight: normal'><SPAN style='FONT-FAMILY: 'Arial'\,'sans-serif'\; COLOR: #002060\; FONT-SIZE: 14pt\; mso-fareast-font-family: 'Times New Roman''><o:p>&nbsp\;</o:p></SPAN></B></P><P style='TEXT-ALIGN: center\; LINE-HEIGHT: normal\; MARGIN: 0in 0in 0pt' class=MsoNormal align=center><B style='mso-bidi-font-weight: normal'><SPAN style='FONT-FAMILY: 'Arial'\,'sans-serif'\; COLOR: #002060\; FONT-SIZE: 12pt\; mso-fareast-font-family: 'Times New Roman''>Presented by llinois workNet Centers of Northern Cook County<o:p></o:p></SPAN></B></P><P style='TEXT-ALIGN: center\; LINE-HEIGHT: normal\; MARGIN: 0in 0in 0pt' class=MsoNormal align=center><SPAN style='FONT-FAMILY: 'Arial'\,'sans-serif'\; COLOR: #002060\; FONT-SIZE: 14pt\; mso-fareast-font-family: 'Times New Roman''><o:p>&nbsp\;</o:p></SPAN></P><P style='TEXT-ALIGN: center\; LINE-HEIGHT: normal\; MARGIN: 0in 0in 0pt' class=MsoNormal align=center><B style='mso-bidi-font-weight: normal'><SPAN style='FONT-FAMILY: 'Arial'\,'sans-serif'\; COLOR: #002060\; FONT-SIZE: 14pt\; mso-fareast-font-family: 'Times New Roman''>Tuesday\, January 4\, 2011<o:p></o:p></SPAN></B></P><P style='TEXT-ALIGN: center\; LINE-HEIGHT: normal\; MARGIN: 0in 0in 0pt' class=MsoNormal align=center><B style='mso-bidi-font-weight: normal'><SPAN style='FONT-FAMILY: 'Arial'\,'sans-serif'\; COLOR: #002060\; FONT-SIZE: 14pt\; mso-fareast-font-family: 'Times New Roman''>7:45 - 9:00 AM <o:p></o:p></SPAN></B></P><P style='TEXT-ALIGN: center\; LINE-HEIGHT: normal\; MARGIN: 0in 0in 0pt' class=MsoNormal align=center><SPAN style='FONT-FAMILY: 'Arial'\,'sans-serif'\; mso-fareast-font-family: 'Times New Roman''><o:p>&nbsp\;</o:p></SPAN></P><P style='TEXT-ALIGN: center\; LINE-HEIGHT: normal\; MARGIN: 0in 0in 0pt' class=MsoNormal align=center><SPAN style='FONT-FAMILY: 'Arial'\,'sans-serif'\; mso-fareast-font-family: 'Times New Roman''><o:p>&nbsp\;</o:p></SPAN></P><P style='TEXT-ALIGN: center\; LINE-HEIGHT: normal\; MARGIN: 0in 0in 6pt' class=MsoNormal align=center><B><U><SPAN style='FONT-FAMILY: 'Arial'\,'sans-serif'\; FONT-SIZE: 12pt\; mso-fareast-font-family: 'Times New Roman''>Speaker<o:p></o:p></SPAN></U></B></P><P style='TEXT-ALIGN: center\; LINE-HEIGHT: normal\; MARGIN: 0in 0in 0pt' class=MsoNormal align=center><B style='mso-bidi-font-weight: normal'><SPAN style='FONT-FAMILY: 'Arial'\,'sans-serif'\; COLOR: #002060\; FONT-SIZE: 12pt\; mso-fareast-font-family: 'Times New Roman''>Chuck Krugel<o:p></o:p></SPAN></B></P><P style='TEXT-ALIGN: center\; LINE-HEIGHT: normal\; MARGIN: 0in 0in 0pt' class=MsoNormal align=center><SPAN style='FONT-FAMILY: 'Arial'\,'sans-serif'\; FONT-SIZE: 12pt\; mso-fareast-font-family: 'Times New Roman''>Prominent Human Resources Attorney<o:p></o:p></SPAN></P><P style='TEXT-ALIGN: center\; LINE-HEIGHT: normal\; MARGIN: 0in 0in 0pt' class=MsoNormal align=center><SPAN style='FONT-FAMILY: 'Arial'\,'sans-serif'\; FONT-SIZE: 12pt\; mso-fareast-font-family: 'Times New Roman''>practicing labor law on behalf of management<o:p></o:p></SPAN></P><P style='TEXT-ALIGN: center\; LINE-HEIGHT: normal\; MARGIN: 0in 0in 0pt' class=MsoNormal align=center><SPAN style='FONT-FAMILY: 'Arial'\,'sans-serif'\; FONT-SIZE: 12pt\; mso-fareast-font-family: 'Times New Roman''><o:p>&nbsp\;</o:p></SPAN></P><P style='TEXT-ALIGN: center\; LINE-HEIGHT: normal\; MARGIN: 0in 0in 6pt' class=MsoNormal align=center><B style='mso-bidi-font-weight: normal'><U><SPAN style='FONT-FAMILY: 'Arial'\,'sans-serif'\; FONT-SIZE: 12pt\; mso-fareast-font-family: 'Times New Roman''>Topics will Include:<o:p></o:p></SPAN></U></B></P><P style='TEXT-ALIGN: center\; LINE-HEIGHT: normal\; MARGIN: 0in 0in 6pt' class=MsoNormal align=center><SPAN style='FONT-FAMILY: 'Arial'\,'sans-serif'\; FONT-SIZE: 12pt\; mso-fareast-font-family: 'Times New Roman''>Employment Policies and Handbooks: To use or not to use<o:p></o:p></SPAN></P><P style='TEXT-ALIGN: center\; LINE-HEIGHT: normal\; MARGIN: 0in 0in 6pt' class=MsoNormal align=center><SPAN style='FONT-FAMILY: 'Arial'\,'sans-serif'\; FONT-SIZE: 12pt\; mso-fareast-font-family: 'Times New Roman''>Employment Agreements:<SPAN style='mso-spacerun: yes'>&nbsp\; </SPAN>To use or not to use<o:p></o:p></SPAN></P><P style='TEXT-ALIGN: center\; LINE-HEIGHT: normal\; MARGIN: 0in 0in 6pt' class=MsoNormal align=center><SPAN style='FONT-FAMILY: 'Arial'\,'sans-serif'\; FONT-SIZE: 12pt\; mso-fareast-font-family: 'Times New Roman''>The cost of employment disputes<o:p></o:p></SPAN></P><P style='TEXT-ALIGN: center\; LINE-HEIGHT: normal\; MARGIN: 0in 0in 0pt' class=MsoNormal align=center><SPAN style='FONT-FAMILY: 'Arial'\,'sans-serif'\; FONT-SIZE: 12pt\; mso-fareast-font-family: 'Times New Roman''><o:p>&nbsp\;</o:p></SPAN></P><P style='TEXT-ALIGN: center\; LINE-HEIGHT: normal\; MARGIN: 0in 0in 0pt' class=MsoNormal align=center><B style='mso-bidi-font-weight: normal'><I style='mso-bidi-font-style: normal'><SPAN style='FONT-FAMILY: 'Arial'\,'sans-serif'\; FONT-SIZE: 12pt\; mso-fareast-font-family: 'Times New Roman''>This event is FREE to attend.<o:p></o:p></SPAN></I></B></P><P style='TEXT-ALIGN: center\; LINE-HEIGHT: normal\; MARGIN: 0in 0in 0pt' class=MsoNormal align=center><SPAN style='FONT-FAMILY: 'Arial'\,'sans-serif'\; FONT-SIZE: 12pt\; mso-fareast-font-family: 'Times New Roman''><o:p><FONT color=#0000ff>&nbsp\;</FONT></o:p></SPAN></P><P style='TEXT-ALIGN: center\; LINE-HEIGHT: normal\; MARGIN: 0in 0in 0pt' class=MsoNormal align=center><B style='mso-bidi-font-weight: normal'><SPAN style='FONT-FAMILY: 'Arial'\,'sans-serif'\; COLOR: blue\; FONT-SIZE: 16pt\; mso-fareast-font-family: 'Times New Roman''><A href='http://events.worknetncc.com/MeetingRegistration.aspxID=7a3c4659-325a-4aaf-8a23-6f8afe9612e5'><FONT color=#0000ff>CLICK HERE TO REGISTER<o:p></o:p></FONT></A></SPAN></B></P><P style='TEXT-ALIGN: center\; LINE-HEIGHT: normal\; MARGIN: 0in 0in 0pt' class=MsoNormal align=center><B><SPAN style='FONT-FAMILY: 'Arial'\,'sans-serif'\; FONT-SIZE: 12pt\; mso-fareast-font-family: 'Times New Roman''><o:p>&nbsp\;</o:p></SPAN></B></P><P style='TEXT-ALIGN: center\; LINE-HEIGHT: normal\; MARGIN: 0in 0in 0pt' class=MsoNormal align=center><B><SPAN style='FONT-FAMILY: 'Arial'\,'sans-serif'\; FONT-SIZE: 12pt\; mso-fareast-font-family: 'Times New Roman''>Questions<BR></SPAN></B><SPAN style='FONT-FAMILY: 'Arial'\,'sans-serif'\; FONT-SIZE: 12pt\; mso-fareast-font-family: 'Times New Roman''>Mohammed Faheem<BR>Business Employer Services and Community Relations Manager<BR>Illinois workNet Centers of Northern Cook County<BR>847.437.9425<BR><A href='mailto:mfaheem@worknetncc.com'><SPAN style='COLOR: blue'>mfaheem@worknetncc.com</SPAN></A><o:p></o:p></SPAN></P><P style='TEXT-ALIGN: center\; LINE-HEIGHT: normal\; MARGIN: 0in 0in 0pt' class=MsoNormal align=center><SPAN style='FONT-FAMILY: 'Times New Roman'\,'serif'\; FONT-SIZE: 12pt\; mso-fareast-font-family: 'Times New Roman''>&nbsp\;<o:p></o:p></SPAN></P><P style='TEXT-ALIGN: center\; LINE-HEIGHT: normal\; MARGIN: 0in 0in 0pt' class=MsoNormal align=center><SPAN style='FONT-FAMILY: 'Times New Roman'\,'serif'\; FONT-SIZE: 12pt\; mso-fareast-font-family: 'Times New Roman''><o:p>&nbsp\;</o:p></SPAN></P><P style='TEXT-ALIGN: center\; LINE-HEIGHT: normal\; MARGIN: 0in 0in 0pt' class=MsoNormal align=center><B style='mso-bidi-font-weight: normal'><SPAN style='FONT-FAMILY: 'Arial'\,'sans-serif'\; COLOR: blue\; FONT-SIZE: 16pt\; mso-fareast-font-family: 'Times New Roman''><A dataFld=0:0 href='http://events.worknetncc.com/MeetingRegistration.aspxID=7a3c4659-325a-4aaf-8a23-6f8afe9612e5'><FONT color=#0000ff>CLICK HERE TO REGISTER<o:p></o:p></FONT></A></SPAN></B></P></DIV>
LOCATION:Illinois workNet Centers of Northern Cook County
UID:e.9129.227
SEQUENCE:3
DTSTAMP:20260424T061357Z
URL:https://members.schaumburgbusiness.com/events/details/illinois-worknet-presents-understanding-labor-employment-law-01-04-2011-227
END:VEVENT

END:VCALENDAR
