BEGIN:VCALENDAR
VERSION:2.0
PRODID:-//ChamberMaster//Event Calendar 2.0//EN
METHOD:PUBLISH
X-PUBLISHED-TTL:P3D
REFRESH-INTERVAL:P3D
CALSCALE:GREGORIAN
BEGIN:VEVENT
DTSTART:20100323T050000Z
DTEND:20100323T050000Z
X-MICROSOFT-CDO-ALLDAYEVENT:FALSE
SUMMARY:Hyrolglyfic Networking Group - March
DESCRIPTION:Hyrolglyfic Networking Group - March
X-ALT-DESC;FMTTYPE=text/html:Hyrolglyfic Networking Group - March
LOCATION:
UID:e.9129.701
SEQUENCE:3
DTSTAMP:20260424T194305Z
URL:https://members.schaumburgbusiness.com/events/details/hyrolglyfic-networking-group-march-03-23-2010-701
END:VEVENT

END:VCALENDAR
