BEGIN:VCALENDAR
VERSION:2.0
PRODID:-//ChamberMaster//Event Calendar 2.0//EN
METHOD:PUBLISH
X-PUBLISHED-TTL:P3D
REFRESH-INTERVAL:P3D
CALSCALE:GREGORIAN
BEGIN:VEVENT
DTSTART:20111026T230000Z
DTEND:20111027T013000Z
X-MICROSOFT-CDO-ALLDAYEVENT:FALSE
SUMMARY:Hyroglyfyc - Whole Foods
DESCRIPTION:Join us for one of the most entertaining ways to connect with people\, build relationships creatively\, get yourself an award/t-shirt and get something to eat. \n\nCost for this event is $10 for SBA members and $15 for non-SBA members.\n\nPlease rsvp as we will need to give a head count for food at the event.
X-ALT-DESC;FMTTYPE=text/html:<P><STRONG>Join us for one of the most entertaining ways to connect with people\, build relationships creatively\, get yourself an award/t-shirt and get something to eat. <BR><BR>Cost for this event is $10 for SBA members and $15 for non-SBA members.<BR><BR>Please rsvp as we will need to give a head count for food at the event</STRONG>.</P>
LOCATION:Whole Foods
UID:e.9129.267
SEQUENCE:3
DTSTAMP:20260423T172813Z
URL:https://members.schaumburgbusiness.com/events/details/hyroglyfyc-whole-foods-10-26-2011-267
END:VEVENT

END:VCALENDAR
